BEGIN:VCALENDAR
VERSION:2.0
PRODID:-//Mr. Dooley&#039;s Boston - ECPv6.15.13.1//NONSGML v1.0//EN
CALSCALE:GREGORIAN
METHOD:PUBLISH
X-WR-CALNAME:Mr. Dooley&#039;s Boston
X-ORIGINAL-URL:https://www.mrdooleys.com
X-WR-CALDESC:Events for Mr. Dooley&#039;s Boston
REFRESH-INTERVAL;VALUE=DURATION:PT1H
X-Robots-Tag:noindex
X-PUBLISHED-TTL:PT1H
BEGIN:VTIMEZONE
TZID:America/New_York
BEGIN:DAYLIGHT
TZOFFSETFROM:-0500
TZOFFSETTO:-0400
TZNAME:EDT
DTSTART:20250309T070000
END:DAYLIGHT
BEGIN:STANDARD
TZOFFSETFROM:-0400
TZOFFSETTO:-0500
TZNAME:EST
DTSTART:20251102T060000
END:STANDARD
BEGIN:DAYLIGHT
TZOFFSETFROM:-0500
TZOFFSETTO:-0400
TZNAME:EDT
DTSTART:20260308T070000
END:DAYLIGHT
BEGIN:STANDARD
TZOFFSETFROM:-0400
TZOFFSETTO:-0500
TZNAME:EST
DTSTART:20261101T060000
END:STANDARD
BEGIN:DAYLIGHT
TZOFFSETFROM:-0500
TZOFFSETTO:-0400
TZNAME:EDT
DTSTART:20270314T070000
END:DAYLIGHT
BEGIN:STANDARD
TZOFFSETFROM:-0400
TZOFFSETTO:-0500
TZNAME:EST
DTSTART:20271107T060000
END:STANDARD
END:VTIMEZONE
BEGIN:VEVENT
DTSTART;TZID=America/New_York:20260201T160000
DTEND;TZID=America/New_York:20260201T200000
DTSTAMP:20260423T143709
CREATED:20250127T215917Z
LAST-MODIFIED:20250127T215917Z
UID:10003636-1769961600-1769976000@www.mrdooleys.com
SUMMARY:Cherry Orchard
DESCRIPTION:
URL:https://www.mrdooleys.com/event/cherry-orchard-3/2026-02-01/
LOCATION:Mr. Dooley’s Boston\, 77 Broad St.\, Boston\, MA\, 02109\, United States
GEO:42.357643;-71.0536578
X-APPLE-STRUCTURED-LOCATION;VALUE=URI;X-ADDRESS=Mr. Dooley’s Boston 77 Broad St. Boston MA 02109 United States;X-APPLE-RADIUS=500;X-TITLE=77 Broad St.:geo:-71.0536578,42.357643
END:VEVENT
BEGIN:VEVENT
DTSTART;TZID=America/New_York:20260202T210000
DTEND;TZID=America/New_York:20260203T010000
DTSTAMP:20260423T143709
CREATED:20250305T170204Z
LAST-MODIFIED:20250305T170205Z
UID:10003223-1770066000-1770080400@www.mrdooleys.com
SUMMARY:Dave Foley 9-late
DESCRIPTION:
URL:https://www.mrdooleys.com/event/dave-foley-9-late-2/2026-02-02/
LOCATION:Mr. Dooley’s Boston\, 77 Broad St.\, Boston\, MA\, 02109\, United States
GEO:42.357643;-71.0536578
X-APPLE-STRUCTURED-LOCATION;VALUE=URI;X-ADDRESS=Mr. Dooley’s Boston 77 Broad St. Boston MA 02109 United States;X-APPLE-RADIUS=500;X-TITLE=77 Broad St.:geo:-71.0536578,42.357643
END:VEVENT
BEGIN:VEVENT
DTSTART;TZID=America/New_York:20260205T203000
DTEND;TZID=America/New_York:20260206T010000
DTSTAMP:20260423T143709
CREATED:20250401T194336Z
LAST-MODIFIED:20250401T194336Z
UID:10003769-1770323400-1770339600@www.mrdooleys.com
SUMMARY:Dave & The Shades till late
DESCRIPTION:
URL:https://www.mrdooleys.com/event/dave-the-shades-till-late-5/2026-02-05/
LOCATION:Mr. Dooley’s Boston\, 77 Broad St.\, Boston\, MA\, 02109\, United States
GEO:42.357643;-71.0536578
X-APPLE-STRUCTURED-LOCATION;VALUE=URI;X-ADDRESS=Mr. Dooley’s Boston 77 Broad St. Boston MA 02109 United States;X-APPLE-RADIUS=500;X-TITLE=77 Broad St.:geo:-71.0536578,42.357643
END:VEVENT
BEGIN:VEVENT
DTSTART;TZID=America/New_York:20260208T160000
DTEND;TZID=America/New_York:20260208T200000
DTSTAMP:20260423T143709
CREATED:20250127T215917Z
LAST-MODIFIED:20250127T215917Z
UID:10003637-1770566400-1770580800@www.mrdooleys.com
SUMMARY:Cherry Orchard
DESCRIPTION:
URL:https://www.mrdooleys.com/event/cherry-orchard-3/2026-02-08/
LOCATION:Mr. Dooley’s Boston\, 77 Broad St.\, Boston\, MA\, 02109\, United States
GEO:42.357643;-71.0536578
X-APPLE-STRUCTURED-LOCATION;VALUE=URI;X-ADDRESS=Mr. Dooley’s Boston 77 Broad St. Boston MA 02109 United States;X-APPLE-RADIUS=500;X-TITLE=77 Broad St.:geo:-71.0536578,42.357643
END:VEVENT
BEGIN:VEVENT
DTSTART;TZID=America/New_York:20260209T210000
DTEND;TZID=America/New_York:20260210T010000
DTSTAMP:20260423T143709
CREATED:20250305T170204Z
LAST-MODIFIED:20250305T170205Z
UID:10003224-1770670800-1770685200@www.mrdooleys.com
SUMMARY:Dave Foley 9-late
DESCRIPTION:
URL:https://www.mrdooleys.com/event/dave-foley-9-late-2/2026-02-09/
LOCATION:Mr. Dooley’s Boston\, 77 Broad St.\, Boston\, MA\, 02109\, United States
GEO:42.357643;-71.0536578
X-APPLE-STRUCTURED-LOCATION;VALUE=URI;X-ADDRESS=Mr. Dooley’s Boston 77 Broad St. Boston MA 02109 United States;X-APPLE-RADIUS=500;X-TITLE=77 Broad St.:geo:-71.0536578,42.357643
END:VEVENT
BEGIN:VEVENT
DTSTART;TZID=America/New_York:20260212T203000
DTEND;TZID=America/New_York:20260213T010000
DTSTAMP:20260423T143709
CREATED:20250401T194336Z
LAST-MODIFIED:20250401T194336Z
UID:10003770-1770928200-1770944400@www.mrdooleys.com
SUMMARY:Dave & The Shades till late
DESCRIPTION:
URL:https://www.mrdooleys.com/event/dave-the-shades-till-late-5/2026-02-12/
LOCATION:Mr. Dooley’s Boston\, 77 Broad St.\, Boston\, MA\, 02109\, United States
GEO:42.357643;-71.0536578
X-APPLE-STRUCTURED-LOCATION;VALUE=URI;X-ADDRESS=Mr. Dooley’s Boston 77 Broad St. Boston MA 02109 United States;X-APPLE-RADIUS=500;X-TITLE=77 Broad St.:geo:-71.0536578,42.357643
END:VEVENT
BEGIN:VEVENT
DTSTART;TZID=America/New_York:20260215T160000
DTEND;TZID=America/New_York:20260215T200000
DTSTAMP:20260423T143709
CREATED:20250127T215917Z
LAST-MODIFIED:20250127T215917Z
UID:10003638-1771171200-1771185600@www.mrdooleys.com
SUMMARY:Cherry Orchard
DESCRIPTION:
URL:https://www.mrdooleys.com/event/cherry-orchard-3/2026-02-15/
LOCATION:Mr. Dooley’s Boston\, 77 Broad St.\, Boston\, MA\, 02109\, United States
GEO:42.357643;-71.0536578
X-APPLE-STRUCTURED-LOCATION;VALUE=URI;X-ADDRESS=Mr. Dooley’s Boston 77 Broad St. Boston MA 02109 United States;X-APPLE-RADIUS=500;X-TITLE=77 Broad St.:geo:-71.0536578,42.357643
END:VEVENT
BEGIN:VEVENT
DTSTART;TZID=America/New_York:20260216T210000
DTEND;TZID=America/New_York:20260217T010000
DTSTAMP:20260423T143709
CREATED:20250305T170204Z
LAST-MODIFIED:20250305T170205Z
UID:10003225-1771275600-1771290000@www.mrdooleys.com
SUMMARY:Dave Foley 9-late
DESCRIPTION:
URL:https://www.mrdooleys.com/event/dave-foley-9-late-2/2026-02-16/
LOCATION:Mr. Dooley’s Boston\, 77 Broad St.\, Boston\, MA\, 02109\, United States
GEO:42.357643;-71.0536578
X-APPLE-STRUCTURED-LOCATION;VALUE=URI;X-ADDRESS=Mr. Dooley’s Boston 77 Broad St. Boston MA 02109 United States;X-APPLE-RADIUS=500;X-TITLE=77 Broad St.:geo:-71.0536578,42.357643
END:VEVENT
BEGIN:VEVENT
DTSTART;TZID=America/New_York:20260219T203000
DTEND;TZID=America/New_York:20260220T010000
DTSTAMP:20260423T143709
CREATED:20250401T194336Z
LAST-MODIFIED:20250401T194336Z
UID:10003771-1771533000-1771549200@www.mrdooleys.com
SUMMARY:Dave & The Shades till late
DESCRIPTION:
URL:https://www.mrdooleys.com/event/dave-the-shades-till-late-5/2026-02-19/
LOCATION:Mr. Dooley’s Boston\, 77 Broad St.\, Boston\, MA\, 02109\, United States
GEO:42.357643;-71.0536578
X-APPLE-STRUCTURED-LOCATION;VALUE=URI;X-ADDRESS=Mr. Dooley’s Boston 77 Broad St. Boston MA 02109 United States;X-APPLE-RADIUS=500;X-TITLE=77 Broad St.:geo:-71.0536578,42.357643
END:VEVENT
BEGIN:VEVENT
DTSTART;TZID=America/New_York:20260222T160000
DTEND;TZID=America/New_York:20260222T200000
DTSTAMP:20260423T143709
CREATED:20250127T215917Z
LAST-MODIFIED:20250127T215917Z
UID:10003639-1771776000-1771790400@www.mrdooleys.com
SUMMARY:Cherry Orchard
DESCRIPTION:
URL:https://www.mrdooleys.com/event/cherry-orchard-3/2026-02-22/
LOCATION:Mr. Dooley’s Boston\, 77 Broad St.\, Boston\, MA\, 02109\, United States
GEO:42.357643;-71.0536578
X-APPLE-STRUCTURED-LOCATION;VALUE=URI;X-ADDRESS=Mr. Dooley’s Boston 77 Broad St. Boston MA 02109 United States;X-APPLE-RADIUS=500;X-TITLE=77 Broad St.:geo:-71.0536578,42.357643
END:VEVENT
BEGIN:VEVENT
DTSTART;TZID=America/New_York:20260223T210000
DTEND;TZID=America/New_York:20260224T010000
DTSTAMP:20260423T143709
CREATED:20250305T170204Z
LAST-MODIFIED:20250305T170205Z
UID:10003226-1771880400-1771894800@www.mrdooleys.com
SUMMARY:Dave Foley 9-late
DESCRIPTION:
URL:https://www.mrdooleys.com/event/dave-foley-9-late-2/2026-02-23/
LOCATION:Mr. Dooley’s Boston\, 77 Broad St.\, Boston\, MA\, 02109\, United States
GEO:42.357643;-71.0536578
X-APPLE-STRUCTURED-LOCATION;VALUE=URI;X-ADDRESS=Mr. Dooley’s Boston 77 Broad St. Boston MA 02109 United States;X-APPLE-RADIUS=500;X-TITLE=77 Broad St.:geo:-71.0536578,42.357643
END:VEVENT
BEGIN:VEVENT
DTSTART;TZID=America/New_York:20260226T203000
DTEND;TZID=America/New_York:20260227T010000
DTSTAMP:20260423T143709
CREATED:20250401T194336Z
LAST-MODIFIED:20250401T194336Z
UID:10003772-1772137800-1772154000@www.mrdooleys.com
SUMMARY:Dave & The Shades till late
DESCRIPTION:
URL:https://www.mrdooleys.com/event/dave-the-shades-till-late-5/2026-02-26/
LOCATION:Mr. Dooley’s Boston\, 77 Broad St.\, Boston\, MA\, 02109\, United States
GEO:42.357643;-71.0536578
X-APPLE-STRUCTURED-LOCATION;VALUE=URI;X-ADDRESS=Mr. Dooley’s Boston 77 Broad St. Boston MA 02109 United States;X-APPLE-RADIUS=500;X-TITLE=77 Broad St.:geo:-71.0536578,42.357643
END:VEVENT
BEGIN:VEVENT
DTSTART;TZID=America/New_York:20260301T160000
DTEND;TZID=America/New_York:20260301T200000
DTSTAMP:20260423T143709
CREATED:20250127T215917Z
LAST-MODIFIED:20250127T215917Z
UID:10003640-1772380800-1772395200@www.mrdooleys.com
SUMMARY:Cherry Orchard
DESCRIPTION:
URL:https://www.mrdooleys.com/event/cherry-orchard-3/2026-03-01/
LOCATION:Mr. Dooley’s Boston\, 77 Broad St.\, Boston\, MA\, 02109\, United States
GEO:42.357643;-71.0536578
X-APPLE-STRUCTURED-LOCATION;VALUE=URI;X-ADDRESS=Mr. Dooley’s Boston 77 Broad St. Boston MA 02109 United States;X-APPLE-RADIUS=500;X-TITLE=77 Broad St.:geo:-71.0536578,42.357643
END:VEVENT
BEGIN:VEVENT
DTSTART;TZID=America/New_York:20260302T210000
DTEND;TZID=America/New_York:20260303T010000
DTSTAMP:20260423T143709
CREATED:20250305T170204Z
LAST-MODIFIED:20250305T170205Z
UID:10003227-1772485200-1772499600@www.mrdooleys.com
SUMMARY:Dave Foley 9-late
DESCRIPTION:
URL:https://www.mrdooleys.com/event/dave-foley-9-late-2/2026-03-02/
LOCATION:Mr. Dooley’s Boston\, 77 Broad St.\, Boston\, MA\, 02109\, United States
GEO:42.357643;-71.0536578
X-APPLE-STRUCTURED-LOCATION;VALUE=URI;X-ADDRESS=Mr. Dooley’s Boston 77 Broad St. Boston MA 02109 United States;X-APPLE-RADIUS=500;X-TITLE=77 Broad St.:geo:-71.0536578,42.357643
END:VEVENT
BEGIN:VEVENT
DTSTART;TZID=America/New_York:20260305T203000
DTEND;TZID=America/New_York:20260306T010000
DTSTAMP:20260423T143709
CREATED:20250401T194336Z
LAST-MODIFIED:20250401T194336Z
UID:10003773-1772742600-1772758800@www.mrdooleys.com
SUMMARY:Dave & The Shades till late
DESCRIPTION:
URL:https://www.mrdooleys.com/event/dave-the-shades-till-late-5/2026-03-05/
LOCATION:Mr. Dooley’s Boston\, 77 Broad St.\, Boston\, MA\, 02109\, United States
GEO:42.357643;-71.0536578
X-APPLE-STRUCTURED-LOCATION;VALUE=URI;X-ADDRESS=Mr. Dooley’s Boston 77 Broad St. Boston MA 02109 United States;X-APPLE-RADIUS=500;X-TITLE=77 Broad St.:geo:-71.0536578,42.357643
END:VEVENT
BEGIN:VEVENT
DTSTART;TZID=America/New_York:20260308T160000
DTEND;TZID=America/New_York:20260308T200000
DTSTAMP:20260423T143709
CREATED:20250127T215917Z
LAST-MODIFIED:20250127T215917Z
UID:10003641-1772985600-1773000000@www.mrdooleys.com
SUMMARY:Cherry Orchard
DESCRIPTION:
URL:https://www.mrdooleys.com/event/cherry-orchard-3/2026-03-08/
LOCATION:Mr. Dooley’s Boston\, 77 Broad St.\, Boston\, MA\, 02109\, United States
GEO:42.357643;-71.0536578
X-APPLE-STRUCTURED-LOCATION;VALUE=URI;X-ADDRESS=Mr. Dooley’s Boston 77 Broad St. Boston MA 02109 United States;X-APPLE-RADIUS=500;X-TITLE=77 Broad St.:geo:-71.0536578,42.357643
END:VEVENT
BEGIN:VEVENT
DTSTART;TZID=America/New_York:20260309T210000
DTEND;TZID=America/New_York:20260310T010000
DTSTAMP:20260423T143709
CREATED:20250305T170204Z
LAST-MODIFIED:20250305T170205Z
UID:10003228-1773090000-1773104400@www.mrdooleys.com
SUMMARY:Dave Foley 9-late
DESCRIPTION:
URL:https://www.mrdooleys.com/event/dave-foley-9-late-2/2026-03-09/
LOCATION:Mr. Dooley’s Boston\, 77 Broad St.\, Boston\, MA\, 02109\, United States
GEO:42.357643;-71.0536578
X-APPLE-STRUCTURED-LOCATION;VALUE=URI;X-ADDRESS=Mr. Dooley’s Boston 77 Broad St. Boston MA 02109 United States;X-APPLE-RADIUS=500;X-TITLE=77 Broad St.:geo:-71.0536578,42.357643
END:VEVENT
BEGIN:VEVENT
DTSTART;TZID=America/New_York:20260310T210000
DTEND;TZID=America/New_York:20260311T010000
DTSTAMP:20260423T143709
CREATED:20260309T174412Z
LAST-MODIFIED:20260309T174412Z
UID:10004125-1773176400-1773190800@www.mrdooleys.com
SUMMARY:The Wooden Planks
DESCRIPTION:
URL:https://www.mrdooleys.com/event/the-wooden-planks/
LOCATION:Mr. Dooley’s Boston\, 77 Broad St.\, Boston\, MA\, 02109\, United States
GEO:42.357643;-71.0536578
X-APPLE-STRUCTURED-LOCATION;VALUE=URI;X-ADDRESS=Mr. Dooley’s Boston 77 Broad St. Boston MA 02109 United States;X-APPLE-RADIUS=500;X-TITLE=77 Broad St.:geo:-71.0536578,42.357643
END:VEVENT
BEGIN:VEVENT
DTSTART;TZID=America/New_York:20260311T210000
DTEND;TZID=America/New_York:20260312T013000
DTSTAMP:20260423T143709
CREATED:20260309T174550Z
LAST-MODIFIED:20260309T174550Z
UID:10004126-1773262800-1773279000@www.mrdooleys.com
SUMMARY:Cherry Orchard
DESCRIPTION:
URL:https://www.mrdooleys.com/event/cherry-orchard-4/
LOCATION:Mr. Dooley’s Boston\, 77 Broad St.\, Boston\, MA\, 02109\, United States
GEO:42.357643;-71.0536578
X-APPLE-STRUCTURED-LOCATION;VALUE=URI;X-ADDRESS=Mr. Dooley’s Boston 77 Broad St. Boston MA 02109 United States;X-APPLE-RADIUS=500;X-TITLE=77 Broad St.:geo:-71.0536578,42.357643
END:VEVENT
BEGIN:VEVENT
DTSTART;TZID=America/New_York:20260312T203000
DTEND;TZID=America/New_York:20260313T010000
DTSTAMP:20260423T143709
CREATED:20250401T194336Z
LAST-MODIFIED:20250401T194336Z
UID:10003774-1773347400-1773363600@www.mrdooleys.com
SUMMARY:Dave & The Shades till late
DESCRIPTION:
URL:https://www.mrdooleys.com/event/dave-the-shades-till-late-5/2026-03-12/
LOCATION:Mr. Dooley’s Boston\, 77 Broad St.\, Boston\, MA\, 02109\, United States
GEO:42.357643;-71.0536578
X-APPLE-STRUCTURED-LOCATION;VALUE=URI;X-ADDRESS=Mr. Dooley’s Boston 77 Broad St. Boston MA 02109 United States;X-APPLE-RADIUS=500;X-TITLE=77 Broad St.:geo:-71.0536578,42.357643
END:VEVENT
BEGIN:VEVENT
DTSTART;TZID=America/New_York:20260313T170000
DTEND;TZID=America/New_York:20260313T203000
DTSTAMP:20260423T143709
CREATED:20260309T174706Z
LAST-MODIFIED:20260309T174706Z
UID:10004127-1773421200-1773433800@www.mrdooleys.com
SUMMARY:Slim Langan
DESCRIPTION:
URL:https://www.mrdooleys.com/event/slim-langan-3/
LOCATION:Mr. Dooley’s Boston\, 77 Broad St.\, Boston\, MA\, 02109\, United States
GEO:42.357643;-71.0536578
X-APPLE-STRUCTURED-LOCATION;VALUE=URI;X-ADDRESS=Mr. Dooley’s Boston 77 Broad St. Boston MA 02109 United States;X-APPLE-RADIUS=500;X-TITLE=77 Broad St.:geo:-71.0536578,42.357643
END:VEVENT
BEGIN:VEVENT
DTSTART;TZID=America/New_York:20260313T210000
DTEND;TZID=America/New_York:20260314T013000
DTSTAMP:20260423T143709
CREATED:20260309T174743Z
LAST-MODIFIED:20260309T174743Z
UID:10004128-1773435600-1773451800@www.mrdooleys.com
SUMMARY:Tommy Courtney Band
DESCRIPTION:
URL:https://www.mrdooleys.com/event/tommy-courtney-band/
LOCATION:Mr. Dooley’s Boston\, 77 Broad St.\, Boston\, MA\, 02109\, United States
GEO:42.357643;-71.0536578
X-APPLE-STRUCTURED-LOCATION;VALUE=URI;X-ADDRESS=Mr. Dooley’s Boston 77 Broad St. Boston MA 02109 United States;X-APPLE-RADIUS=500;X-TITLE=77 Broad St.:geo:-71.0536578,42.357643
END:VEVENT
BEGIN:VEVENT
DTSTART;TZID=America/New_York:20260314T120000
DTEND;TZID=America/New_York:20260314T150000
DTSTAMP:20260423T143709
CREATED:20260309T174930Z
LAST-MODIFIED:20260309T174930Z
UID:10004129-1773489600-1773500400@www.mrdooleys.com
SUMMARY:Fiona Brickley
DESCRIPTION:
URL:https://www.mrdooleys.com/event/fiona-brickley/
LOCATION:Mr. Dooley’s Boston\, 77 Broad St.\, Boston\, MA\, 02109\, United States
GEO:42.357643;-71.0536578
X-APPLE-STRUCTURED-LOCATION;VALUE=URI;X-ADDRESS=Mr. Dooley’s Boston 77 Broad St. Boston MA 02109 United States;X-APPLE-RADIUS=500;X-TITLE=77 Broad St.:geo:-71.0536578,42.357643
END:VEVENT
BEGIN:VEVENT
DTSTART;TZID=America/New_York:20260314T160000
DTEND;TZID=America/New_York:20260314T190000
DTSTAMP:20260423T143709
CREATED:20260309T174957Z
LAST-MODIFIED:20260309T174957Z
UID:10004130-1773504000-1773514800@www.mrdooleys.com
SUMMARY:Finbar Doyle
DESCRIPTION:
URL:https://www.mrdooleys.com/event/finbar-doyle/
LOCATION:Mr. Dooley’s Boston\, 77 Broad St.\, Boston\, MA\, 02109\, United States
GEO:42.357643;-71.0536578
X-APPLE-STRUCTURED-LOCATION;VALUE=URI;X-ADDRESS=Mr. Dooley’s Boston 77 Broad St. Boston MA 02109 United States;X-APPLE-RADIUS=500;X-TITLE=77 Broad St.:geo:-71.0536578,42.357643
END:VEVENT
BEGIN:VEVENT
DTSTART;TZID=America/New_York:20260314T213000
DTEND;TZID=America/New_York:20260315T013000
DTSTAMP:20260423T143709
CREATED:20260309T175037Z
LAST-MODIFIED:20260309T175037Z
UID:10004131-1773523800-1773538200@www.mrdooleys.com
SUMMARY:Tommy Courtney Band
DESCRIPTION:
URL:https://www.mrdooleys.com/event/tommy-courtney-band-2/
LOCATION:Mr. Dooley’s Boston\, 77 Broad St.\, Boston\, MA\, 02109\, United States
GEO:42.357643;-71.0536578
X-APPLE-STRUCTURED-LOCATION;VALUE=URI;X-ADDRESS=Mr. Dooley’s Boston 77 Broad St. Boston MA 02109 United States;X-APPLE-RADIUS=500;X-TITLE=77 Broad St.:geo:-71.0536578,42.357643
END:VEVENT
BEGIN:VEVENT
DTSTART;TZID=America/New_York:20260315T160000
DTEND;TZID=America/New_York:20260315T200000
DTSTAMP:20260423T143709
CREATED:20250127T215917Z
LAST-MODIFIED:20250127T215917Z
UID:10003642-1773590400-1773604800@www.mrdooleys.com
SUMMARY:Cherry Orchard
DESCRIPTION:
URL:https://www.mrdooleys.com/event/cherry-orchard-3/2026-03-15/
LOCATION:Mr. Dooley’s Boston\, 77 Broad St.\, Boston\, MA\, 02109\, United States
GEO:42.357643;-71.0536578
X-APPLE-STRUCTURED-LOCATION;VALUE=URI;X-ADDRESS=Mr. Dooley’s Boston 77 Broad St. Boston MA 02109 United States;X-APPLE-RADIUS=500;X-TITLE=77 Broad St.:geo:-71.0536578,42.357643
END:VEVENT
BEGIN:VEVENT
DTSTART;TZID=America/New_York:20260315T210000
DTEND;TZID=America/New_York:20260316T013000
DTSTAMP:20260423T143709
CREATED:20260309T175110Z
LAST-MODIFIED:20260309T175110Z
UID:10004132-1773608400-1773624600@www.mrdooleys.com
SUMMARY:Slim Langan
DESCRIPTION:
URL:https://www.mrdooleys.com/event/slim-langan-4/
LOCATION:Mr. Dooley’s Boston\, 77 Broad St.\, Boston\, MA\, 02109\, United States
GEO:42.357643;-71.0536578
X-APPLE-STRUCTURED-LOCATION;VALUE=URI;X-ADDRESS=Mr. Dooley’s Boston 77 Broad St. Boston MA 02109 United States;X-APPLE-RADIUS=500;X-TITLE=77 Broad St.:geo:-71.0536578,42.357643
END:VEVENT
BEGIN:VEVENT
DTSTART;TZID=America/New_York:20260316T210000
DTEND;TZID=America/New_York:20260317T010000
DTSTAMP:20260423T143709
CREATED:20250305T170204Z
LAST-MODIFIED:20250305T170205Z
UID:10003229-1773694800-1773709200@www.mrdooleys.com
SUMMARY:Dave Foley 9-late
DESCRIPTION:
URL:https://www.mrdooleys.com/event/dave-foley-9-late-2/2026-03-16/
LOCATION:Mr. Dooley’s Boston\, 77 Broad St.\, Boston\, MA\, 02109\, United States
GEO:42.357643;-71.0536578
X-APPLE-STRUCTURED-LOCATION;VALUE=URI;X-ADDRESS=Mr. Dooley’s Boston 77 Broad St. Boston MA 02109 United States;X-APPLE-RADIUS=500;X-TITLE=77 Broad St.:geo:-71.0536578,42.357643
END:VEVENT
BEGIN:VEVENT
DTSTART;TZID=America/New_York:20260317T120000
DTEND;TZID=America/New_York:20260317T180000
DTSTAMP:20260423T143709
CREATED:20260309T175253Z
LAST-MODIFIED:20260309T175253Z
UID:10004133-1773748800-1773770400@www.mrdooleys.com
SUMMARY:Devri
DESCRIPTION:
URL:https://www.mrdooleys.com/event/devri-3/
LOCATION:Mr. Dooley’s Boston\, 77 Broad St.\, Boston\, MA\, 02109\, United States
GEO:42.357643;-71.0536578
X-APPLE-STRUCTURED-LOCATION;VALUE=URI;X-ADDRESS=Mr. Dooley’s Boston 77 Broad St. Boston MA 02109 United States;X-APPLE-RADIUS=500;X-TITLE=77 Broad St.:geo:-71.0536578,42.357643
END:VEVENT
BEGIN:VEVENT
DTSTART;TZID=America/New_York:20260317T200000
DTEND;TZID=America/New_York:20260318T013000
DTSTAMP:20260423T143709
CREATED:20260309T175327Z
LAST-MODIFIED:20260309T175327Z
UID:10004134-1773777600-1773797400@www.mrdooleys.com
SUMMARY:Watchfire
DESCRIPTION:
URL:https://www.mrdooleys.com/event/watchfire/
LOCATION:Mr. Dooley’s Boston\, 77 Broad St.\, Boston\, MA\, 02109\, United States
GEO:42.357643;-71.0536578
X-APPLE-STRUCTURED-LOCATION;VALUE=URI;X-ADDRESS=Mr. Dooley’s Boston 77 Broad St. Boston MA 02109 United States;X-APPLE-RADIUS=500;X-TITLE=77 Broad St.:geo:-71.0536578,42.357643
END:VEVENT
END:VCALENDAR