BEGIN:VCALENDAR
VERSION:2.0
PRODID:-//Mr. Dooley&#039;s Boston - ECPv6.15.13.1//NONSGML v1.0//EN
CALSCALE:GREGORIAN
METHOD:PUBLISH
X-ORIGINAL-URL:https://www.mrdooleys.com
X-WR-CALDESC:Events for Mr. Dooley&#039;s Boston
REFRESH-INTERVAL;VALUE=DURATION:PT1H
X-Robots-Tag:noindex
X-PUBLISHED-TTL:PT1H
BEGIN:VTIMEZONE
TZID:America/New_York
BEGIN:DAYLIGHT
TZOFFSETFROM:-0500
TZOFFSETTO:-0400
TZNAME:EDT
DTSTART:20240310T070000
END:DAYLIGHT
BEGIN:STANDARD
TZOFFSETFROM:-0400
TZOFFSETTO:-0500
TZNAME:EST
DTSTART:20241103T060000
END:STANDARD
BEGIN:DAYLIGHT
TZOFFSETFROM:-0500
TZOFFSETTO:-0400
TZNAME:EDT
DTSTART:20250309T070000
END:DAYLIGHT
BEGIN:STANDARD
TZOFFSETFROM:-0400
TZOFFSETTO:-0500
TZNAME:EST
DTSTART:20251102T060000
END:STANDARD
BEGIN:DAYLIGHT
TZOFFSETFROM:-0500
TZOFFSETTO:-0400
TZNAME:EDT
DTSTART:20260308T070000
END:DAYLIGHT
BEGIN:STANDARD
TZOFFSETFROM:-0400
TZOFFSETTO:-0500
TZNAME:EST
DTSTART:20261101T060000
END:STANDARD
BEGIN:DAYLIGHT
TZOFFSETFROM:-0500
TZOFFSETTO:-0400
TZNAME:EDT
DTSTART:20270314T070000
END:DAYLIGHT
BEGIN:STANDARD
TZOFFSETFROM:-0400
TZOFFSETTO:-0500
TZNAME:EST
DTSTART:20271107T060000
END:STANDARD
END:VTIMEZONE
BEGIN:VEVENT
DTSTART;TZID=America/New_York:20251214T210000
DTEND;TZID=America/New_York:20251215T010000
DTSTAMP:20260425T090724
CREATED:20251202T132817Z
LAST-MODIFIED:20251202T132817Z
UID:10004093-1765746000-1765760400@www.mrdooleys.com
SUMMARY:Slim Langan
DESCRIPTION:
URL:https://www.mrdooleys.com/event/slim-langan/
LOCATION:Mr. Dooley’s Boston\, 77 Broad St.\, Boston\, MA\, 02109\, United States
GEO:42.357643;-71.0536578
X-APPLE-STRUCTURED-LOCATION;VALUE=URI;X-ADDRESS=Mr. Dooley’s Boston 77 Broad St. Boston MA 02109 United States;X-APPLE-RADIUS=500;X-TITLE=77 Broad St.:geo:-71.0536578,42.357643
END:VEVENT
BEGIN:VEVENT
DTSTART;TZID=America/New_York:20251215T210000
DTEND;TZID=America/New_York:20251216T010000
DTSTAMP:20260425T090724
CREATED:20250305T170204Z
LAST-MODIFIED:20250305T170205Z
UID:10003216-1765832400-1765846800@www.mrdooleys.com
SUMMARY:Dave Foley 9-late
DESCRIPTION:
URL:https://www.mrdooleys.com/event/dave-foley-9-late-2/2025-12-15/
LOCATION:Mr. Dooley’s Boston\, 77 Broad St.\, Boston\, MA\, 02109\, United States
GEO:42.357643;-71.0536578
X-APPLE-STRUCTURED-LOCATION;VALUE=URI;X-ADDRESS=Mr. Dooley’s Boston 77 Broad St. Boston MA 02109 United States;X-APPLE-RADIUS=500;X-TITLE=77 Broad St.:geo:-71.0536578,42.357643
END:VEVENT
BEGIN:VEVENT
DTSTART;TZID=America/New_York:20251216T210000
DTEND;TZID=America/New_York:20251217T010000
DTSTAMP:20260425T090724
CREATED:20251202T133849Z
LAST-MODIFIED:20251202T133849Z
UID:10004105-1765918800-1765933200@www.mrdooleys.com
SUMMARY:Mike Nolan Band 9pm till late
DESCRIPTION:
URL:https://www.mrdooleys.com/event/mike-nolan-band-9pm-till-late/
LOCATION:Mr. Dooley’s Boston\, 77 Broad St.\, Boston\, MA\, 02109\, United States
GEO:42.357643;-71.0536578
X-APPLE-STRUCTURED-LOCATION;VALUE=URI;X-ADDRESS=Mr. Dooley’s Boston 77 Broad St. Boston MA 02109 United States;X-APPLE-RADIUS=500;X-TITLE=77 Broad St.:geo:-71.0536578,42.357643
END:VEVENT
BEGIN:VEVENT
DTSTART;TZID=America/New_York:20251217T210000
DTEND;TZID=America/New_York:20251218T010000
DTSTAMP:20260425T090724
CREATED:20251202T132901Z
LAST-MODIFIED:20251202T132901Z
UID:10004094-1766005200-1766019600@www.mrdooleys.com
SUMMARY:Cherry orchard
DESCRIPTION:
URL:https://www.mrdooleys.com/event/cherry-orchard/
LOCATION:Mr. Dooley’s Boston\, 77 Broad St.\, Boston\, MA\, 02109\, United States
GEO:42.357643;-71.0536578
X-APPLE-STRUCTURED-LOCATION;VALUE=URI;X-ADDRESS=Mr. Dooley’s Boston 77 Broad St. Boston MA 02109 United States;X-APPLE-RADIUS=500;X-TITLE=77 Broad St.:geo:-71.0536578,42.357643
END:VEVENT
BEGIN:VEVENT
DTSTART;TZID=America/New_York:20251218T203000
DTEND;TZID=America/New_York:20251219T010000
DTSTAMP:20260425T090724
CREATED:20250401T194336Z
LAST-MODIFIED:20250401T194336Z
UID:10003762-1766089800-1766106000@www.mrdooleys.com
SUMMARY:Dave & The Shades till late
DESCRIPTION:
URL:https://www.mrdooleys.com/event/dave-the-shades-till-late-5/2025-12-18/
LOCATION:Mr. Dooley’s Boston\, 77 Broad St.\, Boston\, MA\, 02109\, United States
GEO:42.357643;-71.0536578
X-APPLE-STRUCTURED-LOCATION;VALUE=URI;X-ADDRESS=Mr. Dooley’s Boston 77 Broad St. Boston MA 02109 United States;X-APPLE-RADIUS=500;X-TITLE=77 Broad St.:geo:-71.0536578,42.357643
END:VEVENT
BEGIN:VEVENT
DTSTART;TZID=America/New_York:20251219T170000
DTEND;TZID=America/New_York:20251219T200000
DTSTAMP:20260425T090724
CREATED:20251202T132947Z
LAST-MODIFIED:20251202T133031Z
UID:10004095-1766163600-1766174400@www.mrdooleys.com
SUMMARY:Slim Langan 5-8pm
DESCRIPTION:
URL:https://www.mrdooleys.com/event/slim-langan-5-8pm-2/2025-12-19/
LOCATION:Mr. Dooley’s Boston\, 77 Broad St.\, Boston\, MA\, 02109\, United States
GEO:42.357643;-71.0536578
X-APPLE-STRUCTURED-LOCATION;VALUE=URI;X-ADDRESS=Mr. Dooley’s Boston 77 Broad St. Boston MA 02109 United States;X-APPLE-RADIUS=500;X-TITLE=77 Broad St.:geo:-71.0536578,42.357643
END:VEVENT
BEGIN:VEVENT
DTSTART;TZID=America/New_York:20251219T213000
DTEND;TZID=America/New_York:20251220T013000
DTSTAMP:20260425T090724
CREATED:20251202T133218Z
LAST-MODIFIED:20251202T133218Z
UID:10004097-1766179800-1766194200@www.mrdooleys.com
SUMMARY:Strawberry Hill
DESCRIPTION:
URL:https://www.mrdooleys.com/event/strawberry-hill/2025-12-19/
LOCATION:Mr. Dooley’s Boston\, 77 Broad St.\, Boston\, MA\, 02109\, United States
GEO:42.357643;-71.0536578
X-APPLE-STRUCTURED-LOCATION;VALUE=URI;X-ADDRESS=Mr. Dooley’s Boston 77 Broad St. Boston MA 02109 United States;X-APPLE-RADIUS=500;X-TITLE=77 Broad St.:geo:-71.0536578,42.357643
END:VEVENT
BEGIN:VEVENT
DTSTART;TZID=America/New_York:20251220T160000
DTEND;TZID=America/New_York:20251220T190000
DTSTAMP:20260425T090724
CREATED:20251202T133304Z
LAST-MODIFIED:20251202T133304Z
UID:10004099-1766246400-1766257200@www.mrdooleys.com
SUMMARY:Tommy Courtney 4-7pm
DESCRIPTION:
URL:https://www.mrdooleys.com/event/tommy-courtney-4-7pm/
LOCATION:Mr. Dooley’s Boston\, 77 Broad St.\, Boston\, MA\, 02109\, United States
GEO:42.357643;-71.0536578
X-APPLE-STRUCTURED-LOCATION;VALUE=URI;X-ADDRESS=Mr. Dooley’s Boston 77 Broad St. Boston MA 02109 United States;X-APPLE-RADIUS=500;X-TITLE=77 Broad St.:geo:-71.0536578,42.357643
END:VEVENT
BEGIN:VEVENT
DTSTART;TZID=America/New_York:20251220T213000
DTEND;TZID=America/New_York:20251221T013000
DTSTAMP:20260425T090724
CREATED:20251202T133218Z
LAST-MODIFIED:20251202T133218Z
UID:10004098-1766266200-1766280600@www.mrdooleys.com
SUMMARY:Strawberry Hill
DESCRIPTION:
URL:https://www.mrdooleys.com/event/strawberry-hill/2025-12-20/
LOCATION:Mr. Dooley’s Boston\, 77 Broad St.\, Boston\, MA\, 02109\, United States
GEO:42.357643;-71.0536578
X-APPLE-STRUCTURED-LOCATION;VALUE=URI;X-ADDRESS=Mr. Dooley’s Boston 77 Broad St. Boston MA 02109 United States;X-APPLE-RADIUS=500;X-TITLE=77 Broad St.:geo:-71.0536578,42.357643
END:VEVENT
BEGIN:VEVENT
DTSTART;TZID=America/New_York:20251221T160000
DTEND;TZID=America/New_York:20251221T200000
DTSTAMP:20260425T090724
CREATED:20250127T215917Z
LAST-MODIFIED:20250127T215917Z
UID:10003630-1766332800-1766347200@www.mrdooleys.com
SUMMARY:Cherry Orchard
DESCRIPTION:
URL:https://www.mrdooleys.com/event/cherry-orchard-3/2025-12-21/
LOCATION:Mr. Dooley’s Boston\, 77 Broad St.\, Boston\, MA\, 02109\, United States
GEO:42.357643;-71.0536578
X-APPLE-STRUCTURED-LOCATION;VALUE=URI;X-ADDRESS=Mr. Dooley’s Boston 77 Broad St. Boston MA 02109 United States;X-APPLE-RADIUS=500;X-TITLE=77 Broad St.:geo:-71.0536578,42.357643
END:VEVENT
BEGIN:VEVENT
DTSTART;TZID=America/New_York:20251221T210000
DTEND;TZID=America/New_York:20251222T010000
DTSTAMP:20260425T090724
CREATED:20251202T133349Z
LAST-MODIFIED:20251202T133349Z
UID:10004100-1766350800-1766365200@www.mrdooleys.com
SUMMARY:Colm O'brien till late
DESCRIPTION:
URL:https://www.mrdooleys.com/event/colm-obrien-till-late/
LOCATION:Mr. Dooley’s Boston\, 77 Broad St.\, Boston\, MA\, 02109\, United States
GEO:42.357643;-71.0536578
X-APPLE-STRUCTURED-LOCATION;VALUE=URI;X-ADDRESS=Mr. Dooley’s Boston 77 Broad St. Boston MA 02109 United States;X-APPLE-RADIUS=500;X-TITLE=77 Broad St.:geo:-71.0536578,42.357643
END:VEVENT
BEGIN:VEVENT
DTSTART;TZID=America/New_York:20251222T210000
DTEND;TZID=America/New_York:20251223T010000
DTSTAMP:20260425T090724
CREATED:20250305T170204Z
LAST-MODIFIED:20250305T170205Z
UID:10003217-1766437200-1766451600@www.mrdooleys.com
SUMMARY:Dave Foley 9-late
DESCRIPTION:
URL:https://www.mrdooleys.com/event/dave-foley-9-late-2/2025-12-22/
LOCATION:Mr. Dooley’s Boston\, 77 Broad St.\, Boston\, MA\, 02109\, United States
GEO:42.357643;-71.0536578
X-APPLE-STRUCTURED-LOCATION;VALUE=URI;X-ADDRESS=Mr. Dooley’s Boston 77 Broad St. Boston MA 02109 United States;X-APPLE-RADIUS=500;X-TITLE=77 Broad St.:geo:-71.0536578,42.357643
END:VEVENT
BEGIN:VEVENT
DTSTART;TZID=America/New_York:20251223T210000
DTEND;TZID=America/New_York:20251224T010000
DTSTAMP:20260425T090724
CREATED:20251202T133950Z
LAST-MODIFIED:20251202T133950Z
UID:10004106-1766523600-1766538000@www.mrdooleys.com
SUMMARY:Denis O'Gorman till late
DESCRIPTION:
URL:https://www.mrdooleys.com/event/denis-ogorman-till-late/
LOCATION:Mr. Dooley’s Boston\, 77 Broad St.\, Boston\, MA\, 02109\, United States
GEO:42.357643;-71.0536578
X-APPLE-STRUCTURED-LOCATION;VALUE=URI;X-ADDRESS=Mr. Dooley’s Boston 77 Broad St. Boston MA 02109 United States;X-APPLE-RADIUS=500;X-TITLE=77 Broad St.:geo:-71.0536578,42.357643
END:VEVENT
BEGIN:VEVENT
DTSTART;TZID=America/New_York:20251225T203000
DTEND;TZID=America/New_York:20251226T010000
DTSTAMP:20260425T090724
CREATED:20250401T194336Z
LAST-MODIFIED:20250401T194336Z
UID:10003763-1766694600-1766710800@www.mrdooleys.com
SUMMARY:Dave & The Shades till late
DESCRIPTION:
URL:https://www.mrdooleys.com/event/dave-the-shades-till-late-5/2025-12-25/
LOCATION:Mr. Dooley’s Boston\, 77 Broad St.\, Boston\, MA\, 02109\, United States
GEO:42.357643;-71.0536578
X-APPLE-STRUCTURED-LOCATION;VALUE=URI;X-ADDRESS=Mr. Dooley’s Boston 77 Broad St. Boston MA 02109 United States;X-APPLE-RADIUS=500;X-TITLE=77 Broad St.:geo:-71.0536578,42.357643
END:VEVENT
BEGIN:VEVENT
DTSTART;TZID=America/New_York:20251226T170000
DTEND;TZID=America/New_York:20251226T200000
DTSTAMP:20260425T090724
CREATED:20251202T132947Z
LAST-MODIFIED:20251202T133031Z
UID:10004096-1766768400-1766779200@www.mrdooleys.com
SUMMARY:Slim Langan 5-8pm
DESCRIPTION:
URL:https://www.mrdooleys.com/event/slim-langan-5-8pm-2/2025-12-26/
LOCATION:Mr. Dooley’s Boston\, 77 Broad St.\, Boston\, MA\, 02109\, United States
GEO:42.357643;-71.0536578
X-APPLE-STRUCTURED-LOCATION;VALUE=URI;X-ADDRESS=Mr. Dooley’s Boston 77 Broad St. Boston MA 02109 United States;X-APPLE-RADIUS=500;X-TITLE=77 Broad St.:geo:-71.0536578,42.357643
END:VEVENT
BEGIN:VEVENT
DTSTART;TZID=America/New_York:20251226T213000
DTEND;TZID=America/New_York:20251227T013000
DTSTAMP:20260425T090724
CREATED:20251202T133439Z
LAST-MODIFIED:20251202T133439Z
UID:10004101-1766784600-1766799000@www.mrdooleys.com
SUMMARY:Devri
DESCRIPTION:
URL:https://www.mrdooleys.com/event/devri-2/
LOCATION:Mr. Dooley’s Boston\, 77 Broad St.\, Boston\, MA\, 02109\, United States
GEO:42.357643;-71.0536578
X-APPLE-STRUCTURED-LOCATION;VALUE=URI;X-ADDRESS=Mr. Dooley’s Boston 77 Broad St. Boston MA 02109 United States;X-APPLE-RADIUS=500;X-TITLE=77 Broad St.:geo:-71.0536578,42.357643
END:VEVENT
BEGIN:VEVENT
DTSTART;TZID=America/New_York:20251227T160000
DTEND;TZID=America/New_York:20251227T190000
DTSTAMP:20260425T090724
CREATED:20251202T133541Z
LAST-MODIFIED:20251202T133541Z
UID:10004102-1766851200-1766862000@www.mrdooleys.com
SUMMARY:Slim Langan 4-7pm
DESCRIPTION:
URL:https://www.mrdooleys.com/event/slim-langan-4-7pm-2/
LOCATION:Mr. Dooley’s Boston\, 77 Broad St.\, Boston\, MA\, 02109\, United States
GEO:42.357643;-71.0536578
X-APPLE-STRUCTURED-LOCATION;VALUE=URI;X-ADDRESS=Mr. Dooley’s Boston 77 Broad St. Boston MA 02109 United States;X-APPLE-RADIUS=500;X-TITLE=77 Broad St.:geo:-71.0536578,42.357643
END:VEVENT
BEGIN:VEVENT
DTSTART;TZID=America/New_York:20251227T213000
DTEND;TZID=America/New_York:20251228T013000
DTSTAMP:20260425T090724
CREATED:20251202T134824Z
LAST-MODIFIED:20251202T134824Z
UID:10004110-1766871000-1766885400@www.mrdooleys.com
SUMMARY:Cherry Orchard 9:30pm till late
DESCRIPTION:
URL:https://www.mrdooleys.com/event/cherry-orchard-930pm-till-late-3/
LOCATION:Mr. Dooley’s Boston\, 77 Broad St.\, Boston\, MA\, 02109\, United States
GEO:42.357643;-71.0536578
X-APPLE-STRUCTURED-LOCATION;VALUE=URI;X-ADDRESS=Mr. Dooley’s Boston 77 Broad St. Boston MA 02109 United States;X-APPLE-RADIUS=500;X-TITLE=77 Broad St.:geo:-71.0536578,42.357643
END:VEVENT
BEGIN:VEVENT
DTSTART;TZID=America/New_York:20251228T160000
DTEND;TZID=America/New_York:20251228T200000
DTSTAMP:20260425T090724
CREATED:20250127T215917Z
LAST-MODIFIED:20250127T215917Z
UID:10003631-1766937600-1766952000@www.mrdooleys.com
SUMMARY:Cherry Orchard
DESCRIPTION:
URL:https://www.mrdooleys.com/event/cherry-orchard-3/2025-12-28/
LOCATION:Mr. Dooley’s Boston\, 77 Broad St.\, Boston\, MA\, 02109\, United States
GEO:42.357643;-71.0536578
X-APPLE-STRUCTURED-LOCATION;VALUE=URI;X-ADDRESS=Mr. Dooley’s Boston 77 Broad St. Boston MA 02109 United States;X-APPLE-RADIUS=500;X-TITLE=77 Broad St.:geo:-71.0536578,42.357643
END:VEVENT
BEGIN:VEVENT
DTSTART;TZID=America/New_York:20251228T210000
DTEND;TZID=America/New_York:20251229T010000
DTSTAMP:20260425T090724
CREATED:20251202T133619Z
LAST-MODIFIED:20251202T133619Z
UID:10004103-1766955600-1766970000@www.mrdooleys.com
SUMMARY:Slim Langan
DESCRIPTION:
URL:https://www.mrdooleys.com/event/slim-langan-2/
LOCATION:Mr. Dooley’s Boston\, 77 Broad St.\, Boston\, MA\, 02109\, United States
GEO:42.357643;-71.0536578
X-APPLE-STRUCTURED-LOCATION;VALUE=URI;X-ADDRESS=Mr. Dooley’s Boston 77 Broad St. Boston MA 02109 United States;X-APPLE-RADIUS=500;X-TITLE=77 Broad St.:geo:-71.0536578,42.357643
END:VEVENT
BEGIN:VEVENT
DTSTART;TZID=America/New_York:20251229T210000
DTEND;TZID=America/New_York:20251230T010000
DTSTAMP:20260425T090724
CREATED:20250305T170204Z
LAST-MODIFIED:20250305T170205Z
UID:10003218-1767042000-1767056400@www.mrdooleys.com
SUMMARY:Dave Foley 9-late
DESCRIPTION:
URL:https://www.mrdooleys.com/event/dave-foley-9-late-2/2025-12-29/
LOCATION:Mr. Dooley’s Boston\, 77 Broad St.\, Boston\, MA\, 02109\, United States
GEO:42.357643;-71.0536578
X-APPLE-STRUCTURED-LOCATION;VALUE=URI;X-ADDRESS=Mr. Dooley’s Boston 77 Broad St. Boston MA 02109 United States;X-APPLE-RADIUS=500;X-TITLE=77 Broad St.:geo:-71.0536578,42.357643
END:VEVENT
BEGIN:VEVENT
DTSTART;TZID=America/New_York:20251230T210000
DTEND;TZID=America/New_York:20251231T010000
DTSTAMP:20260425T090724
CREATED:20251202T134043Z
LAST-MODIFIED:20251202T134043Z
UID:10004107-1767128400-1767142800@www.mrdooleys.com
SUMMARY:The wooden planks 9pm till late
DESCRIPTION:
URL:https://www.mrdooleys.com/event/the-wooden-planks-9pm-till-late/
LOCATION:Mr. Dooley’s Boston\, 77 Broad St.\, Boston\, MA\, 02109\, United States
GEO:42.357643;-71.0536578
X-APPLE-STRUCTURED-LOCATION;VALUE=URI;X-ADDRESS=Mr. Dooley’s Boston 77 Broad St. Boston MA 02109 United States;X-APPLE-RADIUS=500;X-TITLE=77 Broad St.:geo:-71.0536578,42.357643
END:VEVENT
BEGIN:VEVENT
DTSTART;TZID=America/New_York:20251231T200000
DTEND;TZID=America/New_York:20260101T013000
DTSTAMP:20260425T090724
CREATED:20251217T180904Z
LAST-MODIFIED:20251217T181457Z
UID:10004113-1767211200-1767231000@www.mrdooleys.com
SUMMARY:NYE PARTY WITH CHERRY ORCHARD FROM 8pm
DESCRIPTION:
URL:https://www.mrdooleys.com/event/nye-party-with-cherry-orchard-from-8pm/
LOCATION:Mr. Dooley’s Boston\, 77 Broad St.\, Boston\, MA\, 02109\, United States
GEO:42.357643;-71.0536578
X-APPLE-STRUCTURED-LOCATION;VALUE=URI;X-ADDRESS=Mr. Dooley’s Boston 77 Broad St. Boston MA 02109 United States;X-APPLE-RADIUS=500;X-TITLE=77 Broad St.:geo:-71.0536578,42.357643
END:VEVENT
BEGIN:VEVENT
DTSTART;TZID=America/New_York:20260101T203000
DTEND;TZID=America/New_York:20260102T010000
DTSTAMP:20260425T090724
CREATED:20250401T194336Z
LAST-MODIFIED:20250401T194336Z
UID:10003764-1767299400-1767315600@www.mrdooleys.com
SUMMARY:Dave & The Shades till late
DESCRIPTION:
URL:https://www.mrdooleys.com/event/dave-the-shades-till-late-5/2026-01-01/
LOCATION:Mr. Dooley’s Boston\, 77 Broad St.\, Boston\, MA\, 02109\, United States
GEO:42.357643;-71.0536578
X-APPLE-STRUCTURED-LOCATION;VALUE=URI;X-ADDRESS=Mr. Dooley’s Boston 77 Broad St. Boston MA 02109 United States;X-APPLE-RADIUS=500;X-TITLE=77 Broad St.:geo:-71.0536578,42.357643
END:VEVENT
BEGIN:VEVENT
DTSTART;TZID=America/New_York:20260104T160000
DTEND;TZID=America/New_York:20260104T200000
DTSTAMP:20260425T090724
CREATED:20250127T215917Z
LAST-MODIFIED:20250127T215917Z
UID:10003632-1767542400-1767556800@www.mrdooleys.com
SUMMARY:Cherry Orchard
DESCRIPTION:
URL:https://www.mrdooleys.com/event/cherry-orchard-3/2026-01-04/
LOCATION:Mr. Dooley’s Boston\, 77 Broad St.\, Boston\, MA\, 02109\, United States
GEO:42.357643;-71.0536578
X-APPLE-STRUCTURED-LOCATION;VALUE=URI;X-ADDRESS=Mr. Dooley’s Boston 77 Broad St. Boston MA 02109 United States;X-APPLE-RADIUS=500;X-TITLE=77 Broad St.:geo:-71.0536578,42.357643
END:VEVENT
BEGIN:VEVENT
DTSTART;TZID=America/New_York:20260105T210000
DTEND;TZID=America/New_York:20260106T010000
DTSTAMP:20260425T090724
CREATED:20250305T170204Z
LAST-MODIFIED:20250305T170205Z
UID:10003219-1767646800-1767661200@www.mrdooleys.com
SUMMARY:Dave Foley 9-late
DESCRIPTION:
URL:https://www.mrdooleys.com/event/dave-foley-9-late-2/2026-01-05/
LOCATION:Mr. Dooley’s Boston\, 77 Broad St.\, Boston\, MA\, 02109\, United States
GEO:42.357643;-71.0536578
X-APPLE-STRUCTURED-LOCATION;VALUE=URI;X-ADDRESS=Mr. Dooley’s Boston 77 Broad St. Boston MA 02109 United States;X-APPLE-RADIUS=500;X-TITLE=77 Broad St.:geo:-71.0536578,42.357643
END:VEVENT
BEGIN:VEVENT
DTSTART;TZID=America/New_York:20260108T203000
DTEND;TZID=America/New_York:20260109T010000
DTSTAMP:20260425T090724
CREATED:20250401T194336Z
LAST-MODIFIED:20250401T194336Z
UID:10003765-1767904200-1767920400@www.mrdooleys.com
SUMMARY:Dave & The Shades till late
DESCRIPTION:
URL:https://www.mrdooleys.com/event/dave-the-shades-till-late-5/2026-01-08/
LOCATION:Mr. Dooley’s Boston\, 77 Broad St.\, Boston\, MA\, 02109\, United States
GEO:42.357643;-71.0536578
X-APPLE-STRUCTURED-LOCATION;VALUE=URI;X-ADDRESS=Mr. Dooley’s Boston 77 Broad St. Boston MA 02109 United States;X-APPLE-RADIUS=500;X-TITLE=77 Broad St.:geo:-71.0536578,42.357643
END:VEVENT
BEGIN:VEVENT
DTSTART;TZID=America/New_York:20260111T160000
DTEND;TZID=America/New_York:20260111T200000
DTSTAMP:20260425T090724
CREATED:20250127T215917Z
LAST-MODIFIED:20250127T215917Z
UID:10003633-1768147200-1768161600@www.mrdooleys.com
SUMMARY:Cherry Orchard
DESCRIPTION:
URL:https://www.mrdooleys.com/event/cherry-orchard-3/2026-01-11/
LOCATION:Mr. Dooley’s Boston\, 77 Broad St.\, Boston\, MA\, 02109\, United States
GEO:42.357643;-71.0536578
X-APPLE-STRUCTURED-LOCATION;VALUE=URI;X-ADDRESS=Mr. Dooley’s Boston 77 Broad St. Boston MA 02109 United States;X-APPLE-RADIUS=500;X-TITLE=77 Broad St.:geo:-71.0536578,42.357643
END:VEVENT
BEGIN:VEVENT
DTSTART;TZID=America/New_York:20260112T210000
DTEND;TZID=America/New_York:20260113T010000
DTSTAMP:20260425T090724
CREATED:20250305T170204Z
LAST-MODIFIED:20250305T170205Z
UID:10003220-1768251600-1768266000@www.mrdooleys.com
SUMMARY:Dave Foley 9-late
DESCRIPTION:
URL:https://www.mrdooleys.com/event/dave-foley-9-late-2/2026-01-12/
LOCATION:Mr. Dooley’s Boston\, 77 Broad St.\, Boston\, MA\, 02109\, United States
GEO:42.357643;-71.0536578
X-APPLE-STRUCTURED-LOCATION;VALUE=URI;X-ADDRESS=Mr. Dooley’s Boston 77 Broad St. Boston MA 02109 United States;X-APPLE-RADIUS=500;X-TITLE=77 Broad St.:geo:-71.0536578,42.357643
END:VEVENT
BEGIN:VEVENT
DTSTART;TZID=America/New_York:20260115T203000
DTEND;TZID=America/New_York:20260116T010000
DTSTAMP:20260425T090724
CREATED:20250401T194336Z
LAST-MODIFIED:20250401T194336Z
UID:10003766-1768509000-1768525200@www.mrdooleys.com
SUMMARY:Dave & The Shades till late
DESCRIPTION:
URL:https://www.mrdooleys.com/event/dave-the-shades-till-late-5/2026-01-15/
LOCATION:Mr. Dooley’s Boston\, 77 Broad St.\, Boston\, MA\, 02109\, United States
GEO:42.357643;-71.0536578
X-APPLE-STRUCTURED-LOCATION;VALUE=URI;X-ADDRESS=Mr. Dooley’s Boston 77 Broad St. Boston MA 02109 United States;X-APPLE-RADIUS=500;X-TITLE=77 Broad St.:geo:-71.0536578,42.357643
END:VEVENT
END:VCALENDAR