BEGIN:VCALENDAR
VERSION:2.0
PRODID:-//Mr. Dooley&#039;s Boston - ECPv6.15.13.1//NONSGML v1.0//EN
CALSCALE:GREGORIAN
METHOD:PUBLISH
X-WR-CALNAME:Mr. Dooley&#039;s Boston
X-ORIGINAL-URL:https://www.mrdooleys.com
X-WR-CALDESC:Events for Mr. Dooley&#039;s Boston
REFRESH-INTERVAL;VALUE=DURATION:PT1H
X-Robots-Tag:noindex
X-PUBLISHED-TTL:PT1H
BEGIN:VTIMEZONE
TZID:America/New_York
BEGIN:DAYLIGHT
TZOFFSETFROM:-0500
TZOFFSETTO:-0400
TZNAME:EDT
DTSTART:20270314T070000
END:DAYLIGHT
BEGIN:STANDARD
TZOFFSETFROM:-0400
TZOFFSETTO:-0500
TZNAME:EST
DTSTART:20271107T060000
END:STANDARD
BEGIN:DAYLIGHT
TZOFFSETFROM:-0500
TZOFFSETTO:-0400
TZNAME:EDT
DTSTART:20280312T070000
END:DAYLIGHT
BEGIN:STANDARD
TZOFFSETFROM:-0400
TZOFFSETTO:-0500
TZNAME:EST
DTSTART:20281105T060000
END:STANDARD
BEGIN:DAYLIGHT
TZOFFSETFROM:-0500
TZOFFSETTO:-0400
TZNAME:EDT
DTSTART:20290311T070000
END:DAYLIGHT
BEGIN:STANDARD
TZOFFSETFROM:-0400
TZOFFSETTO:-0500
TZNAME:EST
DTSTART:20291104T060000
END:STANDARD
BEGIN:DAYLIGHT
TZOFFSETFROM:-0500
TZOFFSETTO:-0400
TZNAME:EDT
DTSTART:20300310T070000
END:DAYLIGHT
BEGIN:STANDARD
TZOFFSETFROM:-0400
TZOFFSETTO:-0500
TZNAME:EST
DTSTART:20301103T060000
END:STANDARD
END:VTIMEZONE
BEGIN:VEVENT
DTSTART;TZID=America/New_York:20281002T210000
DTEND;TZID=America/New_York:20281003T010000
DTSTAMP:20260425T111306
CREATED:20250305T170204Z
LAST-MODIFIED:20250305T170205Z
UID:10003362-1854133200-1854147600@www.mrdooleys.com
SUMMARY:Dave Foley 9-late
DESCRIPTION:
URL:https://www.mrdooleys.com/event/dave-foley-9-late-2/2028-10-02/
LOCATION:Mr. Dooley’s Boston\, 77 Broad St.\, Boston\, MA\, 02109\, United States
GEO:42.357643;-71.0536578
X-APPLE-STRUCTURED-LOCATION;VALUE=URI;X-ADDRESS=Mr. Dooley’s Boston 77 Broad St. Boston MA 02109 United States;X-APPLE-RADIUS=500;X-TITLE=77 Broad St.:geo:-71.0536578,42.357643
END:VEVENT
BEGIN:VEVENT
DTSTART;TZID=America/New_York:20281009T210000
DTEND;TZID=America/New_York:20281010T010000
DTSTAMP:20260425T111306
CREATED:20250305T170204Z
LAST-MODIFIED:20250305T170205Z
UID:10003363-1854738000-1854752400@www.mrdooleys.com
SUMMARY:Dave Foley 9-late
DESCRIPTION:
URL:https://www.mrdooleys.com/event/dave-foley-9-late-2/2028-10-09/
LOCATION:Mr. Dooley’s Boston\, 77 Broad St.\, Boston\, MA\, 02109\, United States
GEO:42.357643;-71.0536578
X-APPLE-STRUCTURED-LOCATION;VALUE=URI;X-ADDRESS=Mr. Dooley’s Boston 77 Broad St. Boston MA 02109 United States;X-APPLE-RADIUS=500;X-TITLE=77 Broad St.:geo:-71.0536578,42.357643
END:VEVENT
BEGIN:VEVENT
DTSTART;TZID=America/New_York:20281016T210000
DTEND;TZID=America/New_York:20281017T010000
DTSTAMP:20260425T111306
CREATED:20250305T170204Z
LAST-MODIFIED:20250305T170205Z
UID:10003364-1855342800-1855357200@www.mrdooleys.com
SUMMARY:Dave Foley 9-late
DESCRIPTION:
URL:https://www.mrdooleys.com/event/dave-foley-9-late-2/2028-10-16/
LOCATION:Mr. Dooley’s Boston\, 77 Broad St.\, Boston\, MA\, 02109\, United States
GEO:42.357643;-71.0536578
X-APPLE-STRUCTURED-LOCATION;VALUE=URI;X-ADDRESS=Mr. Dooley’s Boston 77 Broad St. Boston MA 02109 United States;X-APPLE-RADIUS=500;X-TITLE=77 Broad St.:geo:-71.0536578,42.357643
END:VEVENT
BEGIN:VEVENT
DTSTART;TZID=America/New_York:20281023T210000
DTEND;TZID=America/New_York:20281024T010000
DTSTAMP:20260425T111306
CREATED:20250305T170204Z
LAST-MODIFIED:20250305T170205Z
UID:10003365-1855947600-1855962000@www.mrdooleys.com
SUMMARY:Dave Foley 9-late
DESCRIPTION:
URL:https://www.mrdooleys.com/event/dave-foley-9-late-2/2028-10-23/
LOCATION:Mr. Dooley’s Boston\, 77 Broad St.\, Boston\, MA\, 02109\, United States
GEO:42.357643;-71.0536578
X-APPLE-STRUCTURED-LOCATION;VALUE=URI;X-ADDRESS=Mr. Dooley’s Boston 77 Broad St. Boston MA 02109 United States;X-APPLE-RADIUS=500;X-TITLE=77 Broad St.:geo:-71.0536578,42.357643
END:VEVENT
BEGIN:VEVENT
DTSTART;TZID=America/New_York:20281030T210000
DTEND;TZID=America/New_York:20281031T010000
DTSTAMP:20260425T111306
CREATED:20250305T170204Z
LAST-MODIFIED:20250305T170205Z
UID:10003366-1856552400-1856566800@www.mrdooleys.com
SUMMARY:Dave Foley 9-late
DESCRIPTION:
URL:https://www.mrdooleys.com/event/dave-foley-9-late-2/2028-10-30/
LOCATION:Mr. Dooley’s Boston\, 77 Broad St.\, Boston\, MA\, 02109\, United States
GEO:42.357643;-71.0536578
X-APPLE-STRUCTURED-LOCATION;VALUE=URI;X-ADDRESS=Mr. Dooley’s Boston 77 Broad St. Boston MA 02109 United States;X-APPLE-RADIUS=500;X-TITLE=77 Broad St.:geo:-71.0536578,42.357643
END:VEVENT
BEGIN:VEVENT
DTSTART;TZID=America/New_York:20281106T210000
DTEND;TZID=America/New_York:20281107T010000
DTSTAMP:20260425T111306
CREATED:20250305T170204Z
LAST-MODIFIED:20250305T170205Z
UID:10003367-1857157200-1857171600@www.mrdooleys.com
SUMMARY:Dave Foley 9-late
DESCRIPTION:
URL:https://www.mrdooleys.com/event/dave-foley-9-late-2/2028-11-06/
LOCATION:Mr. Dooley’s Boston\, 77 Broad St.\, Boston\, MA\, 02109\, United States
GEO:42.357643;-71.0536578
X-APPLE-STRUCTURED-LOCATION;VALUE=URI;X-ADDRESS=Mr. Dooley’s Boston 77 Broad St. Boston MA 02109 United States;X-APPLE-RADIUS=500;X-TITLE=77 Broad St.:geo:-71.0536578,42.357643
END:VEVENT
BEGIN:VEVENT
DTSTART;TZID=America/New_York:20281113T210000
DTEND;TZID=America/New_York:20281114T010000
DTSTAMP:20260425T111306
CREATED:20250305T170204Z
LAST-MODIFIED:20250305T170205Z
UID:10003368-1857762000-1857776400@www.mrdooleys.com
SUMMARY:Dave Foley 9-late
DESCRIPTION:
URL:https://www.mrdooleys.com/event/dave-foley-9-late-2/2028-11-13/
LOCATION:Mr. Dooley’s Boston\, 77 Broad St.\, Boston\, MA\, 02109\, United States
GEO:42.357643;-71.0536578
X-APPLE-STRUCTURED-LOCATION;VALUE=URI;X-ADDRESS=Mr. Dooley’s Boston 77 Broad St. Boston MA 02109 United States;X-APPLE-RADIUS=500;X-TITLE=77 Broad St.:geo:-71.0536578,42.357643
END:VEVENT
BEGIN:VEVENT
DTSTART;TZID=America/New_York:20281120T210000
DTEND;TZID=America/New_York:20281121T010000
DTSTAMP:20260425T111306
CREATED:20250305T170204Z
LAST-MODIFIED:20250305T170205Z
UID:10003369-1858366800-1858381200@www.mrdooleys.com
SUMMARY:Dave Foley 9-late
DESCRIPTION:
URL:https://www.mrdooleys.com/event/dave-foley-9-late-2/2028-11-20/
LOCATION:Mr. Dooley’s Boston\, 77 Broad St.\, Boston\, MA\, 02109\, United States
GEO:42.357643;-71.0536578
X-APPLE-STRUCTURED-LOCATION;VALUE=URI;X-ADDRESS=Mr. Dooley’s Boston 77 Broad St. Boston MA 02109 United States;X-APPLE-RADIUS=500;X-TITLE=77 Broad St.:geo:-71.0536578,42.357643
END:VEVENT
BEGIN:VEVENT
DTSTART;TZID=America/New_York:20281127T210000
DTEND;TZID=America/New_York:20281128T010000
DTSTAMP:20260425T111306
CREATED:20250305T170204Z
LAST-MODIFIED:20250305T170205Z
UID:10003370-1858971600-1858986000@www.mrdooleys.com
SUMMARY:Dave Foley 9-late
DESCRIPTION:
URL:https://www.mrdooleys.com/event/dave-foley-9-late-2/2028-11-27/
LOCATION:Mr. Dooley’s Boston\, 77 Broad St.\, Boston\, MA\, 02109\, United States
GEO:42.357643;-71.0536578
X-APPLE-STRUCTURED-LOCATION;VALUE=URI;X-ADDRESS=Mr. Dooley’s Boston 77 Broad St. Boston MA 02109 United States;X-APPLE-RADIUS=500;X-TITLE=77 Broad St.:geo:-71.0536578,42.357643
END:VEVENT
BEGIN:VEVENT
DTSTART;TZID=America/New_York:20281204T210000
DTEND;TZID=America/New_York:20281205T010000
DTSTAMP:20260425T111306
CREATED:20250305T170204Z
LAST-MODIFIED:20250305T170205Z
UID:10003371-1859576400-1859590800@www.mrdooleys.com
SUMMARY:Dave Foley 9-late
DESCRIPTION:
URL:https://www.mrdooleys.com/event/dave-foley-9-late-2/2028-12-04/
LOCATION:Mr. Dooley’s Boston\, 77 Broad St.\, Boston\, MA\, 02109\, United States
GEO:42.357643;-71.0536578
X-APPLE-STRUCTURED-LOCATION;VALUE=URI;X-ADDRESS=Mr. Dooley’s Boston 77 Broad St. Boston MA 02109 United States;X-APPLE-RADIUS=500;X-TITLE=77 Broad St.:geo:-71.0536578,42.357643
END:VEVENT
BEGIN:VEVENT
DTSTART;TZID=America/New_York:20281211T210000
DTEND;TZID=America/New_York:20281212T010000
DTSTAMP:20260425T111306
CREATED:20250305T170204Z
LAST-MODIFIED:20250305T170205Z
UID:10003372-1860181200-1860195600@www.mrdooleys.com
SUMMARY:Dave Foley 9-late
DESCRIPTION:
URL:https://www.mrdooleys.com/event/dave-foley-9-late-2/2028-12-11/
LOCATION:Mr. Dooley’s Boston\, 77 Broad St.\, Boston\, MA\, 02109\, United States
GEO:42.357643;-71.0536578
X-APPLE-STRUCTURED-LOCATION;VALUE=URI;X-ADDRESS=Mr. Dooley’s Boston 77 Broad St. Boston MA 02109 United States;X-APPLE-RADIUS=500;X-TITLE=77 Broad St.:geo:-71.0536578,42.357643
END:VEVENT
BEGIN:VEVENT
DTSTART;TZID=America/New_York:20281218T210000
DTEND;TZID=America/New_York:20281219T010000
DTSTAMP:20260425T111306
CREATED:20250305T170204Z
LAST-MODIFIED:20250305T170205Z
UID:10003373-1860786000-1860800400@www.mrdooleys.com
SUMMARY:Dave Foley 9-late
DESCRIPTION:
URL:https://www.mrdooleys.com/event/dave-foley-9-late-2/2028-12-18/
LOCATION:Mr. Dooley’s Boston\, 77 Broad St.\, Boston\, MA\, 02109\, United States
GEO:42.357643;-71.0536578
X-APPLE-STRUCTURED-LOCATION;VALUE=URI;X-ADDRESS=Mr. Dooley’s Boston 77 Broad St. Boston MA 02109 United States;X-APPLE-RADIUS=500;X-TITLE=77 Broad St.:geo:-71.0536578,42.357643
END:VEVENT
BEGIN:VEVENT
DTSTART;TZID=America/New_York:20281225T210000
DTEND;TZID=America/New_York:20281226T010000
DTSTAMP:20260425T111306
CREATED:20250305T170204Z
LAST-MODIFIED:20250305T170205Z
UID:10003374-1861390800-1861405200@www.mrdooleys.com
SUMMARY:Dave Foley 9-late
DESCRIPTION:
URL:https://www.mrdooleys.com/event/dave-foley-9-late-2/2028-12-25/
LOCATION:Mr. Dooley’s Boston\, 77 Broad St.\, Boston\, MA\, 02109\, United States
GEO:42.357643;-71.0536578
X-APPLE-STRUCTURED-LOCATION;VALUE=URI;X-ADDRESS=Mr. Dooley’s Boston 77 Broad St. Boston MA 02109 United States;X-APPLE-RADIUS=500;X-TITLE=77 Broad St.:geo:-71.0536578,42.357643
END:VEVENT
BEGIN:VEVENT
DTSTART;TZID=America/New_York:20290101T210000
DTEND;TZID=America/New_York:20290102T010000
DTSTAMP:20260425T111306
CREATED:20250305T170204Z
LAST-MODIFIED:20250305T170205Z
UID:10003375-1861995600-1862010000@www.mrdooleys.com
SUMMARY:Dave Foley 9-late
DESCRIPTION:
URL:https://www.mrdooleys.com/event/dave-foley-9-late-2/2029-01-01/
LOCATION:Mr. Dooley’s Boston\, 77 Broad St.\, Boston\, MA\, 02109\, United States
GEO:42.357643;-71.0536578
X-APPLE-STRUCTURED-LOCATION;VALUE=URI;X-ADDRESS=Mr. Dooley’s Boston 77 Broad St. Boston MA 02109 United States;X-APPLE-RADIUS=500;X-TITLE=77 Broad St.:geo:-71.0536578,42.357643
END:VEVENT
BEGIN:VEVENT
DTSTART;TZID=America/New_York:20290108T210000
DTEND;TZID=America/New_York:20290109T010000
DTSTAMP:20260425T111306
CREATED:20250305T170204Z
LAST-MODIFIED:20250305T170205Z
UID:10003376-1862600400-1862614800@www.mrdooleys.com
SUMMARY:Dave Foley 9-late
DESCRIPTION:
URL:https://www.mrdooleys.com/event/dave-foley-9-late-2/2029-01-08/
LOCATION:Mr. Dooley’s Boston\, 77 Broad St.\, Boston\, MA\, 02109\, United States
GEO:42.357643;-71.0536578
X-APPLE-STRUCTURED-LOCATION;VALUE=URI;X-ADDRESS=Mr. Dooley’s Boston 77 Broad St. Boston MA 02109 United States;X-APPLE-RADIUS=500;X-TITLE=77 Broad St.:geo:-71.0536578,42.357643
END:VEVENT
BEGIN:VEVENT
DTSTART;TZID=America/New_York:20290115T210000
DTEND;TZID=America/New_York:20290116T010000
DTSTAMP:20260425T111306
CREATED:20250305T170204Z
LAST-MODIFIED:20250305T170205Z
UID:10003377-1863205200-1863219600@www.mrdooleys.com
SUMMARY:Dave Foley 9-late
DESCRIPTION:
URL:https://www.mrdooleys.com/event/dave-foley-9-late-2/2029-01-15/
LOCATION:Mr. Dooley’s Boston\, 77 Broad St.\, Boston\, MA\, 02109\, United States
GEO:42.357643;-71.0536578
X-APPLE-STRUCTURED-LOCATION;VALUE=URI;X-ADDRESS=Mr. Dooley’s Boston 77 Broad St. Boston MA 02109 United States;X-APPLE-RADIUS=500;X-TITLE=77 Broad St.:geo:-71.0536578,42.357643
END:VEVENT
BEGIN:VEVENT
DTSTART;TZID=America/New_York:20290122T210000
DTEND;TZID=America/New_York:20290123T010000
DTSTAMP:20260425T111306
CREATED:20250305T170204Z
LAST-MODIFIED:20250305T170205Z
UID:10003378-1863810000-1863824400@www.mrdooleys.com
SUMMARY:Dave Foley 9-late
DESCRIPTION:
URL:https://www.mrdooleys.com/event/dave-foley-9-late-2/2029-01-22/
LOCATION:Mr. Dooley’s Boston\, 77 Broad St.\, Boston\, MA\, 02109\, United States
GEO:42.357643;-71.0536578
X-APPLE-STRUCTURED-LOCATION;VALUE=URI;X-ADDRESS=Mr. Dooley’s Boston 77 Broad St. Boston MA 02109 United States;X-APPLE-RADIUS=500;X-TITLE=77 Broad St.:geo:-71.0536578,42.357643
END:VEVENT
BEGIN:VEVENT
DTSTART;TZID=America/New_York:20290129T210000
DTEND;TZID=America/New_York:20290130T010000
DTSTAMP:20260425T111306
CREATED:20250305T170204Z
LAST-MODIFIED:20250305T170205Z
UID:10003379-1864414800-1864429200@www.mrdooleys.com
SUMMARY:Dave Foley 9-late
DESCRIPTION:
URL:https://www.mrdooleys.com/event/dave-foley-9-late-2/2029-01-29/
LOCATION:Mr. Dooley’s Boston\, 77 Broad St.\, Boston\, MA\, 02109\, United States
GEO:42.357643;-71.0536578
X-APPLE-STRUCTURED-LOCATION;VALUE=URI;X-ADDRESS=Mr. Dooley’s Boston 77 Broad St. Boston MA 02109 United States;X-APPLE-RADIUS=500;X-TITLE=77 Broad St.:geo:-71.0536578,42.357643
END:VEVENT
BEGIN:VEVENT
DTSTART;TZID=America/New_York:20290205T210000
DTEND;TZID=America/New_York:20290206T010000
DTSTAMP:20260425T111306
CREATED:20250305T170204Z
LAST-MODIFIED:20250305T170205Z
UID:10003380-1865019600-1865034000@www.mrdooleys.com
SUMMARY:Dave Foley 9-late
DESCRIPTION:
URL:https://www.mrdooleys.com/event/dave-foley-9-late-2/2029-02-05/
LOCATION:Mr. Dooley’s Boston\, 77 Broad St.\, Boston\, MA\, 02109\, United States
GEO:42.357643;-71.0536578
X-APPLE-STRUCTURED-LOCATION;VALUE=URI;X-ADDRESS=Mr. Dooley’s Boston 77 Broad St. Boston MA 02109 United States;X-APPLE-RADIUS=500;X-TITLE=77 Broad St.:geo:-71.0536578,42.357643
END:VEVENT
BEGIN:VEVENT
DTSTART;TZID=America/New_York:20290212T210000
DTEND;TZID=America/New_York:20290213T010000
DTSTAMP:20260425T111306
CREATED:20250305T170204Z
LAST-MODIFIED:20250305T170205Z
UID:10003381-1865624400-1865638800@www.mrdooleys.com
SUMMARY:Dave Foley 9-late
DESCRIPTION:
URL:https://www.mrdooleys.com/event/dave-foley-9-late-2/2029-02-12/
LOCATION:Mr. Dooley’s Boston\, 77 Broad St.\, Boston\, MA\, 02109\, United States
GEO:42.357643;-71.0536578
X-APPLE-STRUCTURED-LOCATION;VALUE=URI;X-ADDRESS=Mr. Dooley’s Boston 77 Broad St. Boston MA 02109 United States;X-APPLE-RADIUS=500;X-TITLE=77 Broad St.:geo:-71.0536578,42.357643
END:VEVENT
BEGIN:VEVENT
DTSTART;TZID=America/New_York:20290219T210000
DTEND;TZID=America/New_York:20290220T010000
DTSTAMP:20260425T111306
CREATED:20250305T170204Z
LAST-MODIFIED:20250305T170205Z
UID:10003382-1866229200-1866243600@www.mrdooleys.com
SUMMARY:Dave Foley 9-late
DESCRIPTION:
URL:https://www.mrdooleys.com/event/dave-foley-9-late-2/2029-02-19/
LOCATION:Mr. Dooley’s Boston\, 77 Broad St.\, Boston\, MA\, 02109\, United States
GEO:42.357643;-71.0536578
X-APPLE-STRUCTURED-LOCATION;VALUE=URI;X-ADDRESS=Mr. Dooley’s Boston 77 Broad St. Boston MA 02109 United States;X-APPLE-RADIUS=500;X-TITLE=77 Broad St.:geo:-71.0536578,42.357643
END:VEVENT
BEGIN:VEVENT
DTSTART;TZID=America/New_York:20290226T210000
DTEND;TZID=America/New_York:20290227T010000
DTSTAMP:20260425T111306
CREATED:20250305T170204Z
LAST-MODIFIED:20250305T170205Z
UID:10003383-1866834000-1866848400@www.mrdooleys.com
SUMMARY:Dave Foley 9-late
DESCRIPTION:
URL:https://www.mrdooleys.com/event/dave-foley-9-late-2/2029-02-26/
LOCATION:Mr. Dooley’s Boston\, 77 Broad St.\, Boston\, MA\, 02109\, United States
GEO:42.357643;-71.0536578
X-APPLE-STRUCTURED-LOCATION;VALUE=URI;X-ADDRESS=Mr. Dooley’s Boston 77 Broad St. Boston MA 02109 United States;X-APPLE-RADIUS=500;X-TITLE=77 Broad St.:geo:-71.0536578,42.357643
END:VEVENT
BEGIN:VEVENT
DTSTART;TZID=America/New_York:20290305T210000
DTEND;TZID=America/New_York:20290306T010000
DTSTAMP:20260425T111306
CREATED:20250305T170204Z
LAST-MODIFIED:20250305T170205Z
UID:10003384-1867438800-1867453200@www.mrdooleys.com
SUMMARY:Dave Foley 9-late
DESCRIPTION:
URL:https://www.mrdooleys.com/event/dave-foley-9-late-2/2029-03-05/
LOCATION:Mr. Dooley’s Boston\, 77 Broad St.\, Boston\, MA\, 02109\, United States
GEO:42.357643;-71.0536578
X-APPLE-STRUCTURED-LOCATION;VALUE=URI;X-ADDRESS=Mr. Dooley’s Boston 77 Broad St. Boston MA 02109 United States;X-APPLE-RADIUS=500;X-TITLE=77 Broad St.:geo:-71.0536578,42.357643
END:VEVENT
BEGIN:VEVENT
DTSTART;TZID=America/New_York:20290312T210000
DTEND;TZID=America/New_York:20290313T010000
DTSTAMP:20260425T111306
CREATED:20250305T170204Z
LAST-MODIFIED:20250305T170205Z
UID:10003385-1868043600-1868058000@www.mrdooleys.com
SUMMARY:Dave Foley 9-late
DESCRIPTION:
URL:https://www.mrdooleys.com/event/dave-foley-9-late-2/2029-03-12/
LOCATION:Mr. Dooley’s Boston\, 77 Broad St.\, Boston\, MA\, 02109\, United States
GEO:42.357643;-71.0536578
X-APPLE-STRUCTURED-LOCATION;VALUE=URI;X-ADDRESS=Mr. Dooley’s Boston 77 Broad St. Boston MA 02109 United States;X-APPLE-RADIUS=500;X-TITLE=77 Broad St.:geo:-71.0536578,42.357643
END:VEVENT
BEGIN:VEVENT
DTSTART;TZID=America/New_York:20290319T210000
DTEND;TZID=America/New_York:20290320T010000
DTSTAMP:20260425T111306
CREATED:20250305T170204Z
LAST-MODIFIED:20250305T170205Z
UID:10003386-1868648400-1868662800@www.mrdooleys.com
SUMMARY:Dave Foley 9-late
DESCRIPTION:
URL:https://www.mrdooleys.com/event/dave-foley-9-late-2/2029-03-19/
LOCATION:Mr. Dooley’s Boston\, 77 Broad St.\, Boston\, MA\, 02109\, United States
GEO:42.357643;-71.0536578
X-APPLE-STRUCTURED-LOCATION;VALUE=URI;X-ADDRESS=Mr. Dooley’s Boston 77 Broad St. Boston MA 02109 United States;X-APPLE-RADIUS=500;X-TITLE=77 Broad St.:geo:-71.0536578,42.357643
END:VEVENT
BEGIN:VEVENT
DTSTART;TZID=America/New_York:20290326T210000
DTEND;TZID=America/New_York:20290327T010000
DTSTAMP:20260425T111306
CREATED:20250305T170204Z
LAST-MODIFIED:20250305T170205Z
UID:10003387-1869253200-1869267600@www.mrdooleys.com
SUMMARY:Dave Foley 9-late
DESCRIPTION:
URL:https://www.mrdooleys.com/event/dave-foley-9-late-2/2029-03-26/
LOCATION:Mr. Dooley’s Boston\, 77 Broad St.\, Boston\, MA\, 02109\, United States
GEO:42.357643;-71.0536578
X-APPLE-STRUCTURED-LOCATION;VALUE=URI;X-ADDRESS=Mr. Dooley’s Boston 77 Broad St. Boston MA 02109 United States;X-APPLE-RADIUS=500;X-TITLE=77 Broad St.:geo:-71.0536578,42.357643
END:VEVENT
BEGIN:VEVENT
DTSTART;TZID=America/New_York:20290402T210000
DTEND;TZID=America/New_York:20290403T010000
DTSTAMP:20260425T111306
CREATED:20250305T170204Z
LAST-MODIFIED:20250305T170205Z
UID:10003388-1869858000-1869872400@www.mrdooleys.com
SUMMARY:Dave Foley 9-late
DESCRIPTION:
URL:https://www.mrdooleys.com/event/dave-foley-9-late-2/2029-04-02/
LOCATION:Mr. Dooley’s Boston\, 77 Broad St.\, Boston\, MA\, 02109\, United States
GEO:42.357643;-71.0536578
X-APPLE-STRUCTURED-LOCATION;VALUE=URI;X-ADDRESS=Mr. Dooley’s Boston 77 Broad St. Boston MA 02109 United States;X-APPLE-RADIUS=500;X-TITLE=77 Broad St.:geo:-71.0536578,42.357643
END:VEVENT
BEGIN:VEVENT
DTSTART;TZID=America/New_York:20290409T210000
DTEND;TZID=America/New_York:20290410T010000
DTSTAMP:20260425T111306
CREATED:20250305T170204Z
LAST-MODIFIED:20250305T170205Z
UID:10003389-1870462800-1870477200@www.mrdooleys.com
SUMMARY:Dave Foley 9-late
DESCRIPTION:
URL:https://www.mrdooleys.com/event/dave-foley-9-late-2/2029-04-09/
LOCATION:Mr. Dooley’s Boston\, 77 Broad St.\, Boston\, MA\, 02109\, United States
GEO:42.357643;-71.0536578
X-APPLE-STRUCTURED-LOCATION;VALUE=URI;X-ADDRESS=Mr. Dooley’s Boston 77 Broad St. Boston MA 02109 United States;X-APPLE-RADIUS=500;X-TITLE=77 Broad St.:geo:-71.0536578,42.357643
END:VEVENT
BEGIN:VEVENT
DTSTART;TZID=America/New_York:20290416T210000
DTEND;TZID=America/New_York:20290417T010000
DTSTAMP:20260425T111306
CREATED:20250305T170204Z
LAST-MODIFIED:20250305T170205Z
UID:10003390-1871067600-1871082000@www.mrdooleys.com
SUMMARY:Dave Foley 9-late
DESCRIPTION:
URL:https://www.mrdooleys.com/event/dave-foley-9-late-2/2029-04-16/
LOCATION:Mr. Dooley’s Boston\, 77 Broad St.\, Boston\, MA\, 02109\, United States
GEO:42.357643;-71.0536578
X-APPLE-STRUCTURED-LOCATION;VALUE=URI;X-ADDRESS=Mr. Dooley’s Boston 77 Broad St. Boston MA 02109 United States;X-APPLE-RADIUS=500;X-TITLE=77 Broad St.:geo:-71.0536578,42.357643
END:VEVENT
BEGIN:VEVENT
DTSTART;TZID=America/New_York:20290423T210000
DTEND;TZID=America/New_York:20290424T010000
DTSTAMP:20260425T111306
CREATED:20250305T170204Z
LAST-MODIFIED:20250305T170205Z
UID:10003391-1871672400-1871686800@www.mrdooleys.com
SUMMARY:Dave Foley 9-late
DESCRIPTION:
URL:https://www.mrdooleys.com/event/dave-foley-9-late-2/2029-04-23/
LOCATION:Mr. Dooley’s Boston\, 77 Broad St.\, Boston\, MA\, 02109\, United States
GEO:42.357643;-71.0536578
X-APPLE-STRUCTURED-LOCATION;VALUE=URI;X-ADDRESS=Mr. Dooley’s Boston 77 Broad St. Boston MA 02109 United States;X-APPLE-RADIUS=500;X-TITLE=77 Broad St.:geo:-71.0536578,42.357643
END:VEVENT
END:VCALENDAR