BEGIN:VCALENDAR
VERSION:2.0
PRODID:-//Mr. Dooley&#039;s Boston - ECPv6.15.13.1//NONSGML v1.0//EN
CALSCALE:GREGORIAN
METHOD:PUBLISH
X-WR-CALNAME:Mr. Dooley&#039;s Boston
X-ORIGINAL-URL:https://www.mrdooleys.com
X-WR-CALDESC:Events for Mr. Dooley&#039;s Boston
REFRESH-INTERVAL;VALUE=DURATION:PT1H
X-Robots-Tag:noindex
X-PUBLISHED-TTL:PT1H
BEGIN:VTIMEZONE
TZID:America/New_York
BEGIN:DAYLIGHT
TZOFFSETFROM:-0500
TZOFFSETTO:-0400
TZNAME:EDT
DTSTART:20240310T070000
END:DAYLIGHT
BEGIN:STANDARD
TZOFFSETFROM:-0400
TZOFFSETTO:-0500
TZNAME:EST
DTSTART:20241103T060000
END:STANDARD
BEGIN:DAYLIGHT
TZOFFSETFROM:-0500
TZOFFSETTO:-0400
TZNAME:EDT
DTSTART:20250309T070000
END:DAYLIGHT
BEGIN:STANDARD
TZOFFSETFROM:-0400
TZOFFSETTO:-0500
TZNAME:EST
DTSTART:20251102T060000
END:STANDARD
BEGIN:DAYLIGHT
TZOFFSETFROM:-0500
TZOFFSETTO:-0400
TZNAME:EDT
DTSTART:20260308T070000
END:DAYLIGHT
BEGIN:STANDARD
TZOFFSETFROM:-0400
TZOFFSETTO:-0500
TZNAME:EST
DTSTART:20261101T060000
END:STANDARD
END:VTIMEZONE
BEGIN:VEVENT
DTSTART;TZID=America/New_York:20251029T210000
DTEND;TZID=America/New_York:20251030T010000
DTSTAMP:20260425T120003
CREATED:20251008T132627Z
LAST-MODIFIED:20251008T132627Z
UID:10004011-1761771600-1761786000@www.mrdooleys.com
SUMMARY:Tommy Courtney till late
DESCRIPTION:
URL:https://www.mrdooleys.com/event/tommy-courtney-till-late-8/
LOCATION:Mr. Dooley’s Boston\, 77 Broad St.\, Boston\, MA\, 02109\, United States
GEO:42.357643;-71.0536578
X-APPLE-STRUCTURED-LOCATION;VALUE=URI;X-ADDRESS=Mr. Dooley’s Boston 77 Broad St. Boston MA 02109 United States;X-APPLE-RADIUS=500;X-TITLE=77 Broad St.:geo:-71.0536578,42.357643
END:VEVENT
BEGIN:VEVENT
DTSTART;TZID=America/New_York:20251028T210000
DTEND;TZID=America/New_York:20251029T010000
DTSTAMP:20260425T120003
CREATED:20251008T132529Z
LAST-MODIFIED:20251008T132529Z
UID:10004010-1761685200-1761699600@www.mrdooleys.com
SUMMARY:Colm O'Brien till late
DESCRIPTION:
URL:https://www.mrdooleys.com/event/colm-obrien-till-late-5/
LOCATION:Mr. Dooley’s Boston\, 77 Broad St.\, Boston\, MA\, 02109\, United States
GEO:42.357643;-71.0536578
X-APPLE-STRUCTURED-LOCATION;VALUE=URI;X-ADDRESS=Mr. Dooley’s Boston 77 Broad St. Boston MA 02109 United States;X-APPLE-RADIUS=500;X-TITLE=77 Broad St.:geo:-71.0536578,42.357643
END:VEVENT
BEGIN:VEVENT
DTSTART;TZID=America/New_York:20251027T210000
DTEND;TZID=America/New_York:20251028T010000
DTSTAMP:20260425T120003
CREATED:20250305T170204Z
LAST-MODIFIED:20250305T170205Z
UID:10003209-1761598800-1761613200@www.mrdooleys.com
SUMMARY:Dave Foley 9-late
DESCRIPTION:
URL:https://www.mrdooleys.com/event/dave-foley-9-late-2/2025-10-27/
LOCATION:Mr. Dooley’s Boston\, 77 Broad St.\, Boston\, MA\, 02109\, United States
GEO:42.357643;-71.0536578
X-APPLE-STRUCTURED-LOCATION;VALUE=URI;X-ADDRESS=Mr. Dooley’s Boston 77 Broad St. Boston MA 02109 United States;X-APPLE-RADIUS=500;X-TITLE=77 Broad St.:geo:-71.0536578,42.357643
END:VEVENT
BEGIN:VEVENT
DTSTART;TZID=America/New_York:20251026T210000
DTEND;TZID=America/New_York:20251027T010000
DTSTAMP:20260425T120003
CREATED:20251008T132436Z
LAST-MODIFIED:20251008T132436Z
UID:10004009-1761512400-1761526800@www.mrdooleys.com
SUMMARY:Stephen sunshine
DESCRIPTION:
URL:https://www.mrdooleys.com/event/stephen-sunshine/
LOCATION:Mr. Dooley’s Boston\, 77 Broad St.\, Boston\, MA\, 02109\, United States
GEO:42.357643;-71.0536578
X-APPLE-STRUCTURED-LOCATION;VALUE=URI;X-ADDRESS=Mr. Dooley’s Boston 77 Broad St. Boston MA 02109 United States;X-APPLE-RADIUS=500;X-TITLE=77 Broad St.:geo:-71.0536578,42.357643
END:VEVENT
BEGIN:VEVENT
DTSTART;TZID=America/New_York:20251026T160000
DTEND;TZID=America/New_York:20251026T200000
DTSTAMP:20260425T120003
CREATED:20250127T215917Z
LAST-MODIFIED:20250127T215917Z
UID:10003622-1761494400-1761508800@www.mrdooleys.com
SUMMARY:Cherry Orchard
DESCRIPTION:
URL:https://www.mrdooleys.com/event/cherry-orchard-3/2025-10-26/
LOCATION:Mr. Dooley’s Boston\, 77 Broad St.\, Boston\, MA\, 02109\, United States
GEO:42.357643;-71.0536578
X-APPLE-STRUCTURED-LOCATION;VALUE=URI;X-ADDRESS=Mr. Dooley’s Boston 77 Broad St. Boston MA 02109 United States;X-APPLE-RADIUS=500;X-TITLE=77 Broad St.:geo:-71.0536578,42.357643
END:VEVENT
BEGIN:VEVENT
DTSTART;TZID=America/New_York:20251025T213000
DTEND;TZID=America/New_York:20251026T013000
DTSTAMP:20260425T120003
CREATED:20251008T132347Z
LAST-MODIFIED:20251008T132347Z
UID:10004008-1761427800-1761442200@www.mrdooleys.com
SUMMARY:Devri till late
DESCRIPTION:
URL:https://www.mrdooleys.com/event/devri-till-late-3/2025-10-25/
LOCATION:Mr. Dooley’s Boston\, 77 Broad St.\, Boston\, MA\, 02109\, United States
GEO:42.357643;-71.0536578
X-APPLE-STRUCTURED-LOCATION;VALUE=URI;X-ADDRESS=Mr. Dooley’s Boston 77 Broad St. Boston MA 02109 United States;X-APPLE-RADIUS=500;X-TITLE=77 Broad St.:geo:-71.0536578,42.357643
END:VEVENT
BEGIN:VEVENT
DTSTART;TZID=America/New_York:20251025T160000
DTEND;TZID=America/New_York:20251025T190000
DTSTAMP:20260425T120003
CREATED:20251008T133351Z
LAST-MODIFIED:20251008T133351Z
UID:10004016-1761408000-1761418800@www.mrdooleys.com
SUMMARY:Slim Langan 4-7pm
DESCRIPTION:
URL:https://www.mrdooleys.com/event/slim-langan-4-7pm/
LOCATION:Mr. Dooley’s Boston\, 77 Broad St.\, Boston\, MA\, 02109\, United States
GEO:42.357643;-71.0536578
X-APPLE-STRUCTURED-LOCATION;VALUE=URI;X-ADDRESS=Mr. Dooley’s Boston 77 Broad St. Boston MA 02109 United States;X-APPLE-RADIUS=500;X-TITLE=77 Broad St.:geo:-71.0536578,42.357643
END:VEVENT
BEGIN:VEVENT
DTSTART;TZID=America/New_York:20251024T213000
DTEND;TZID=America/New_York:20251025T013000
DTSTAMP:20260425T120003
CREATED:20251008T132347Z
LAST-MODIFIED:20251008T132347Z
UID:10004007-1761341400-1761355800@www.mrdooleys.com
SUMMARY:Devri till late
DESCRIPTION:
URL:https://www.mrdooleys.com/event/devri-till-late-3/2025-10-24/
LOCATION:Mr. Dooley’s Boston\, 77 Broad St.\, Boston\, MA\, 02109\, United States
GEO:42.357643;-71.0536578
X-APPLE-STRUCTURED-LOCATION;VALUE=URI;X-ADDRESS=Mr. Dooley’s Boston 77 Broad St. Boston MA 02109 United States;X-APPLE-RADIUS=500;X-TITLE=77 Broad St.:geo:-71.0536578,42.357643
END:VEVENT
END:VCALENDAR