BEGIN:VCALENDAR
VERSION:2.0
PRODID:-//Mr. Dooley&#039;s Boston - ECPv6.15.13.1//NONSGML v1.0//EN
CALSCALE:GREGORIAN
METHOD:PUBLISH
X-WR-CALNAME:Mr. Dooley&#039;s Boston
X-ORIGINAL-URL:https://www.mrdooleys.com
X-WR-CALDESC:Events for Mr. Dooley&#039;s Boston
REFRESH-INTERVAL;VALUE=DURATION:PT1H
X-Robots-Tag:noindex
X-PUBLISHED-TTL:PT1H
BEGIN:VTIMEZONE
TZID:America/New_York
BEGIN:DAYLIGHT
TZOFFSETFROM:-0500
TZOFFSETTO:-0400
TZNAME:EDT
DTSTART:20280312T070000
END:DAYLIGHT
BEGIN:STANDARD
TZOFFSETFROM:-0400
TZOFFSETTO:-0500
TZNAME:EST
DTSTART:20281105T060000
END:STANDARD
BEGIN:DAYLIGHT
TZOFFSETFROM:-0500
TZOFFSETTO:-0400
TZNAME:EDT
DTSTART:20290311T070000
END:DAYLIGHT
BEGIN:STANDARD
TZOFFSETFROM:-0400
TZOFFSETTO:-0500
TZNAME:EST
DTSTART:20291104T060000
END:STANDARD
BEGIN:DAYLIGHT
TZOFFSETFROM:-0500
TZOFFSETTO:-0400
TZNAME:EDT
DTSTART:20300310T070000
END:DAYLIGHT
BEGIN:STANDARD
TZOFFSETFROM:-0400
TZOFFSETTO:-0500
TZNAME:EST
DTSTART:20301103T060000
END:STANDARD
BEGIN:DAYLIGHT
TZOFFSETFROM:-0500
TZOFFSETTO:-0400
TZNAME:EDT
DTSTART:20310309T070000
END:DAYLIGHT
BEGIN:STANDARD
TZOFFSETFROM:-0400
TZOFFSETTO:-0500
TZNAME:EST
DTSTART:20311102T060000
END:STANDARD
END:VTIMEZONE
BEGIN:VEVENT
DTSTART;TZID=America/New_York:20291105T210000
DTEND;TZID=America/New_York:20291106T010000
DTSTAMP:20260425T191102
CREATED:20250305T170204Z
LAST-MODIFIED:20250305T170205Z
UID:10003419-1888606800-1888621200@www.mrdooleys.com
SUMMARY:Dave Foley 9-late
DESCRIPTION:
URL:https://www.mrdooleys.com/event/dave-foley-9-late-2/2029-11-05/
LOCATION:Mr. Dooley’s Boston\, 77 Broad St.\, Boston\, MA\, 02109\, United States
GEO:42.357643;-71.0536578
X-APPLE-STRUCTURED-LOCATION;VALUE=URI;X-ADDRESS=Mr. Dooley’s Boston 77 Broad St. Boston MA 02109 United States;X-APPLE-RADIUS=500;X-TITLE=77 Broad St.:geo:-71.0536578,42.357643
END:VEVENT
BEGIN:VEVENT
DTSTART;TZID=America/New_York:20291112T210000
DTEND;TZID=America/New_York:20291113T010000
DTSTAMP:20260425T191102
CREATED:20250305T170204Z
LAST-MODIFIED:20250305T170205Z
UID:10003420-1889211600-1889226000@www.mrdooleys.com
SUMMARY:Dave Foley 9-late
DESCRIPTION:
URL:https://www.mrdooleys.com/event/dave-foley-9-late-2/2029-11-12/
LOCATION:Mr. Dooley’s Boston\, 77 Broad St.\, Boston\, MA\, 02109\, United States
GEO:42.357643;-71.0536578
X-APPLE-STRUCTURED-LOCATION;VALUE=URI;X-ADDRESS=Mr. Dooley’s Boston 77 Broad St. Boston MA 02109 United States;X-APPLE-RADIUS=500;X-TITLE=77 Broad St.:geo:-71.0536578,42.357643
END:VEVENT
BEGIN:VEVENT
DTSTART;TZID=America/New_York:20291119T210000
DTEND;TZID=America/New_York:20291120T010000
DTSTAMP:20260425T191102
CREATED:20250305T170204Z
LAST-MODIFIED:20250305T170205Z
UID:10003421-1889816400-1889830800@www.mrdooleys.com
SUMMARY:Dave Foley 9-late
DESCRIPTION:
URL:https://www.mrdooleys.com/event/dave-foley-9-late-2/2029-11-19/
LOCATION:Mr. Dooley’s Boston\, 77 Broad St.\, Boston\, MA\, 02109\, United States
GEO:42.357643;-71.0536578
X-APPLE-STRUCTURED-LOCATION;VALUE=URI;X-ADDRESS=Mr. Dooley’s Boston 77 Broad St. Boston MA 02109 United States;X-APPLE-RADIUS=500;X-TITLE=77 Broad St.:geo:-71.0536578,42.357643
END:VEVENT
BEGIN:VEVENT
DTSTART;TZID=America/New_York:20291126T210000
DTEND;TZID=America/New_York:20291127T010000
DTSTAMP:20260425T191102
CREATED:20250305T170204Z
LAST-MODIFIED:20250305T170205Z
UID:10003685-1890421200-1890435600@www.mrdooleys.com
SUMMARY:Dave Foley 9-late
DESCRIPTION:
URL:https://www.mrdooleys.com/event/dave-foley-9-late-2/2029-11-26/
LOCATION:Mr. Dooley’s Boston\, 77 Broad St.\, Boston\, MA\, 02109\, United States
GEO:42.357643;-71.0536578
X-APPLE-STRUCTURED-LOCATION;VALUE=URI;X-ADDRESS=Mr. Dooley’s Boston 77 Broad St. Boston MA 02109 United States;X-APPLE-RADIUS=500;X-TITLE=77 Broad St.:geo:-71.0536578,42.357643
END:VEVENT
BEGIN:VEVENT
DTSTART;TZID=America/New_York:20291203T210000
DTEND;TZID=America/New_York:20291204T010000
DTSTAMP:20260425T191102
CREATED:20250305T170204Z
LAST-MODIFIED:20250305T170205Z
UID:10003686-1891026000-1891040400@www.mrdooleys.com
SUMMARY:Dave Foley 9-late
DESCRIPTION:
URL:https://www.mrdooleys.com/event/dave-foley-9-late-2/2029-12-03/
LOCATION:Mr. Dooley’s Boston\, 77 Broad St.\, Boston\, MA\, 02109\, United States
GEO:42.357643;-71.0536578
X-APPLE-STRUCTURED-LOCATION;VALUE=URI;X-ADDRESS=Mr. Dooley’s Boston 77 Broad St. Boston MA 02109 United States;X-APPLE-RADIUS=500;X-TITLE=77 Broad St.:geo:-71.0536578,42.357643
END:VEVENT
BEGIN:VEVENT
DTSTART;TZID=America/New_York:20291210T210000
DTEND;TZID=America/New_York:20291211T010000
DTSTAMP:20260425T191102
CREATED:20250305T170204Z
LAST-MODIFIED:20250305T170205Z
UID:10003687-1891630800-1891645200@www.mrdooleys.com
SUMMARY:Dave Foley 9-late
DESCRIPTION:
URL:https://www.mrdooleys.com/event/dave-foley-9-late-2/2029-12-10/
LOCATION:Mr. Dooley’s Boston\, 77 Broad St.\, Boston\, MA\, 02109\, United States
GEO:42.357643;-71.0536578
X-APPLE-STRUCTURED-LOCATION;VALUE=URI;X-ADDRESS=Mr. Dooley’s Boston 77 Broad St. Boston MA 02109 United States;X-APPLE-RADIUS=500;X-TITLE=77 Broad St.:geo:-71.0536578,42.357643
END:VEVENT
BEGIN:VEVENT
DTSTART;TZID=America/New_York:20291217T210000
DTEND;TZID=America/New_York:20291218T010000
DTSTAMP:20260425T191102
CREATED:20250305T170204Z
LAST-MODIFIED:20250305T170205Z
UID:10003688-1892235600-1892250000@www.mrdooleys.com
SUMMARY:Dave Foley 9-late
DESCRIPTION:
URL:https://www.mrdooleys.com/event/dave-foley-9-late-2/2029-12-17/
LOCATION:Mr. Dooley’s Boston\, 77 Broad St.\, Boston\, MA\, 02109\, United States
GEO:42.357643;-71.0536578
X-APPLE-STRUCTURED-LOCATION;VALUE=URI;X-ADDRESS=Mr. Dooley’s Boston 77 Broad St. Boston MA 02109 United States;X-APPLE-RADIUS=500;X-TITLE=77 Broad St.:geo:-71.0536578,42.357643
END:VEVENT
BEGIN:VEVENT
DTSTART;TZID=America/New_York:20291224T210000
DTEND;TZID=America/New_York:20291225T010000
DTSTAMP:20260425T191102
CREATED:20250305T170204Z
LAST-MODIFIED:20250305T170205Z
UID:10003689-1892840400-1892854800@www.mrdooleys.com
SUMMARY:Dave Foley 9-late
DESCRIPTION:
URL:https://www.mrdooleys.com/event/dave-foley-9-late-2/2029-12-24/
LOCATION:Mr. Dooley’s Boston\, 77 Broad St.\, Boston\, MA\, 02109\, United States
GEO:42.357643;-71.0536578
X-APPLE-STRUCTURED-LOCATION;VALUE=URI;X-ADDRESS=Mr. Dooley’s Boston 77 Broad St. Boston MA 02109 United States;X-APPLE-RADIUS=500;X-TITLE=77 Broad St.:geo:-71.0536578,42.357643
END:VEVENT
BEGIN:VEVENT
DTSTART;TZID=America/New_York:20291231T210000
DTEND;TZID=America/New_York:20300101T010000
DTSTAMP:20260425T191102
CREATED:20250305T170204Z
LAST-MODIFIED:20250305T170205Z
UID:10003690-1893445200-1893459600@www.mrdooleys.com
SUMMARY:Dave Foley 9-late
DESCRIPTION:
URL:https://www.mrdooleys.com/event/dave-foley-9-late-2/2029-12-31/
LOCATION:Mr. Dooley’s Boston\, 77 Broad St.\, Boston\, MA\, 02109\, United States
GEO:42.357643;-71.0536578
X-APPLE-STRUCTURED-LOCATION;VALUE=URI;X-ADDRESS=Mr. Dooley’s Boston 77 Broad St. Boston MA 02109 United States;X-APPLE-RADIUS=500;X-TITLE=77 Broad St.:geo:-71.0536578,42.357643
END:VEVENT
BEGIN:VEVENT
DTSTART;TZID=America/New_York:20300107T210000
DTEND;TZID=America/New_York:20300108T010000
DTSTAMP:20260425T191102
CREATED:20250305T170204Z
LAST-MODIFIED:20250305T170205Z
UID:10003691-1894050000-1894064400@www.mrdooleys.com
SUMMARY:Dave Foley 9-late
DESCRIPTION:
URL:https://www.mrdooleys.com/event/dave-foley-9-late-2/2030-01-07/
LOCATION:Mr. Dooley’s Boston\, 77 Broad St.\, Boston\, MA\, 02109\, United States
GEO:42.357643;-71.0536578
X-APPLE-STRUCTURED-LOCATION;VALUE=URI;X-ADDRESS=Mr. Dooley’s Boston 77 Broad St. Boston MA 02109 United States;X-APPLE-RADIUS=500;X-TITLE=77 Broad St.:geo:-71.0536578,42.357643
END:VEVENT
BEGIN:VEVENT
DTSTART;TZID=America/New_York:20300114T210000
DTEND;TZID=America/New_York:20300115T010000
DTSTAMP:20260425T191102
CREATED:20250305T170204Z
LAST-MODIFIED:20250305T170205Z
UID:10003692-1894654800-1894669200@www.mrdooleys.com
SUMMARY:Dave Foley 9-late
DESCRIPTION:
URL:https://www.mrdooleys.com/event/dave-foley-9-late-2/2030-01-14/
LOCATION:Mr. Dooley’s Boston\, 77 Broad St.\, Boston\, MA\, 02109\, United States
GEO:42.357643;-71.0536578
X-APPLE-STRUCTURED-LOCATION;VALUE=URI;X-ADDRESS=Mr. Dooley’s Boston 77 Broad St. Boston MA 02109 United States;X-APPLE-RADIUS=500;X-TITLE=77 Broad St.:geo:-71.0536578,42.357643
END:VEVENT
BEGIN:VEVENT
DTSTART;TZID=America/New_York:20300121T210000
DTEND;TZID=America/New_York:20300122T010000
DTSTAMP:20260425T191102
CREATED:20250305T170204Z
LAST-MODIFIED:20250305T170205Z
UID:10003693-1895259600-1895274000@www.mrdooleys.com
SUMMARY:Dave Foley 9-late
DESCRIPTION:
URL:https://www.mrdooleys.com/event/dave-foley-9-late-2/2030-01-21/
LOCATION:Mr. Dooley’s Boston\, 77 Broad St.\, Boston\, MA\, 02109\, United States
GEO:42.357643;-71.0536578
X-APPLE-STRUCTURED-LOCATION;VALUE=URI;X-ADDRESS=Mr. Dooley’s Boston 77 Broad St. Boston MA 02109 United States;X-APPLE-RADIUS=500;X-TITLE=77 Broad St.:geo:-71.0536578,42.357643
END:VEVENT
BEGIN:VEVENT
DTSTART;TZID=America/New_York:20300128T210000
DTEND;TZID=America/New_York:20300129T010000
DTSTAMP:20260425T191102
CREATED:20250305T170204Z
LAST-MODIFIED:20250305T170205Z
UID:10003694-1895864400-1895878800@www.mrdooleys.com
SUMMARY:Dave Foley 9-late
DESCRIPTION:
URL:https://www.mrdooleys.com/event/dave-foley-9-late-2/2030-01-28/
LOCATION:Mr. Dooley’s Boston\, 77 Broad St.\, Boston\, MA\, 02109\, United States
GEO:42.357643;-71.0536578
X-APPLE-STRUCTURED-LOCATION;VALUE=URI;X-ADDRESS=Mr. Dooley’s Boston 77 Broad St. Boston MA 02109 United States;X-APPLE-RADIUS=500;X-TITLE=77 Broad St.:geo:-71.0536578,42.357643
END:VEVENT
BEGIN:VEVENT
DTSTART;TZID=America/New_York:20300204T210000
DTEND;TZID=America/New_York:20300205T010000
DTSTAMP:20260425T191102
CREATED:20250305T170204Z
LAST-MODIFIED:20250305T170205Z
UID:10003695-1896469200-1896483600@www.mrdooleys.com
SUMMARY:Dave Foley 9-late
DESCRIPTION:
URL:https://www.mrdooleys.com/event/dave-foley-9-late-2/2030-02-04/
LOCATION:Mr. Dooley’s Boston\, 77 Broad St.\, Boston\, MA\, 02109\, United States
GEO:42.357643;-71.0536578
X-APPLE-STRUCTURED-LOCATION;VALUE=URI;X-ADDRESS=Mr. Dooley’s Boston 77 Broad St. Boston MA 02109 United States;X-APPLE-RADIUS=500;X-TITLE=77 Broad St.:geo:-71.0536578,42.357643
END:VEVENT
BEGIN:VEVENT
DTSTART;TZID=America/New_York:20300211T210000
DTEND;TZID=America/New_York:20300212T010000
DTSTAMP:20260425T191102
CREATED:20250305T170204Z
LAST-MODIFIED:20250305T170205Z
UID:10003696-1897074000-1897088400@www.mrdooleys.com
SUMMARY:Dave Foley 9-late
DESCRIPTION:
URL:https://www.mrdooleys.com/event/dave-foley-9-late-2/2030-02-11/
LOCATION:Mr. Dooley’s Boston\, 77 Broad St.\, Boston\, MA\, 02109\, United States
GEO:42.357643;-71.0536578
X-APPLE-STRUCTURED-LOCATION;VALUE=URI;X-ADDRESS=Mr. Dooley’s Boston 77 Broad St. Boston MA 02109 United States;X-APPLE-RADIUS=500;X-TITLE=77 Broad St.:geo:-71.0536578,42.357643
END:VEVENT
BEGIN:VEVENT
DTSTART;TZID=America/New_York:20300218T210000
DTEND;TZID=America/New_York:20300219T010000
DTSTAMP:20260425T191102
CREATED:20250305T170204Z
LAST-MODIFIED:20250305T170205Z
UID:10003697-1897678800-1897693200@www.mrdooleys.com
SUMMARY:Dave Foley 9-late
DESCRIPTION:
URL:https://www.mrdooleys.com/event/dave-foley-9-late-2/2030-02-18/
LOCATION:Mr. Dooley’s Boston\, 77 Broad St.\, Boston\, MA\, 02109\, United States
GEO:42.357643;-71.0536578
X-APPLE-STRUCTURED-LOCATION;VALUE=URI;X-ADDRESS=Mr. Dooley’s Boston 77 Broad St. Boston MA 02109 United States;X-APPLE-RADIUS=500;X-TITLE=77 Broad St.:geo:-71.0536578,42.357643
END:VEVENT
BEGIN:VEVENT
DTSTART;TZID=America/New_York:20300225T210000
DTEND;TZID=America/New_York:20300226T010000
DTSTAMP:20260425T191102
CREATED:20250305T170204Z
LAST-MODIFIED:20250305T170205Z
UID:10003698-1898283600-1898298000@www.mrdooleys.com
SUMMARY:Dave Foley 9-late
DESCRIPTION:
URL:https://www.mrdooleys.com/event/dave-foley-9-late-2/2030-02-25/
LOCATION:Mr. Dooley’s Boston\, 77 Broad St.\, Boston\, MA\, 02109\, United States
GEO:42.357643;-71.0536578
X-APPLE-STRUCTURED-LOCATION;VALUE=URI;X-ADDRESS=Mr. Dooley’s Boston 77 Broad St. Boston MA 02109 United States;X-APPLE-RADIUS=500;X-TITLE=77 Broad St.:geo:-71.0536578,42.357643
END:VEVENT
BEGIN:VEVENT
DTSTART;TZID=America/New_York:20300304T210000
DTEND;TZID=America/New_York:20300305T010000
DTSTAMP:20260425T191102
CREATED:20250305T170204Z
LAST-MODIFIED:20250305T170205Z
UID:10003699-1898888400-1898902800@www.mrdooleys.com
SUMMARY:Dave Foley 9-late
DESCRIPTION:
URL:https://www.mrdooleys.com/event/dave-foley-9-late-2/2030-03-04/
LOCATION:Mr. Dooley’s Boston\, 77 Broad St.\, Boston\, MA\, 02109\, United States
GEO:42.357643;-71.0536578
X-APPLE-STRUCTURED-LOCATION;VALUE=URI;X-ADDRESS=Mr. Dooley’s Boston 77 Broad St. Boston MA 02109 United States;X-APPLE-RADIUS=500;X-TITLE=77 Broad St.:geo:-71.0536578,42.357643
END:VEVENT
BEGIN:VEVENT
DTSTART;TZID=America/New_York:20300311T210000
DTEND;TZID=America/New_York:20300312T010000
DTSTAMP:20260425T191102
CREATED:20250305T170204Z
LAST-MODIFIED:20250305T170205Z
UID:10004044-1899493200-1899507600@www.mrdooleys.com
SUMMARY:Dave Foley 9-late
DESCRIPTION:
URL:https://www.mrdooleys.com/event/dave-foley-9-late-2/2030-03-11/
LOCATION:Mr. Dooley’s Boston\, 77 Broad St.\, Boston\, MA\, 02109\, United States
GEO:42.357643;-71.0536578
X-APPLE-STRUCTURED-LOCATION;VALUE=URI;X-ADDRESS=Mr. Dooley’s Boston 77 Broad St. Boston MA 02109 United States;X-APPLE-RADIUS=500;X-TITLE=77 Broad St.:geo:-71.0536578,42.357643
END:VEVENT
BEGIN:VEVENT
DTSTART;TZID=America/New_York:20300318T210000
DTEND;TZID=America/New_York:20300319T010000
DTSTAMP:20260425T191102
CREATED:20250305T170204Z
LAST-MODIFIED:20250305T170205Z
UID:10004045-1900098000-1900112400@www.mrdooleys.com
SUMMARY:Dave Foley 9-late
DESCRIPTION:
URL:https://www.mrdooleys.com/event/dave-foley-9-late-2/2030-03-18/
LOCATION:Mr. Dooley’s Boston\, 77 Broad St.\, Boston\, MA\, 02109\, United States
GEO:42.357643;-71.0536578
X-APPLE-STRUCTURED-LOCATION;VALUE=URI;X-ADDRESS=Mr. Dooley’s Boston 77 Broad St. Boston MA 02109 United States;X-APPLE-RADIUS=500;X-TITLE=77 Broad St.:geo:-71.0536578,42.357643
END:VEVENT
BEGIN:VEVENT
DTSTART;TZID=America/New_York:20300325T210000
DTEND;TZID=America/New_York:20300326T010000
DTSTAMP:20260425T191102
CREATED:20250305T170204Z
LAST-MODIFIED:20250305T170205Z
UID:10004046-1900702800-1900717200@www.mrdooleys.com
SUMMARY:Dave Foley 9-late
DESCRIPTION:
URL:https://www.mrdooleys.com/event/dave-foley-9-late-2/2030-03-25/
LOCATION:Mr. Dooley’s Boston\, 77 Broad St.\, Boston\, MA\, 02109\, United States
GEO:42.357643;-71.0536578
X-APPLE-STRUCTURED-LOCATION;VALUE=URI;X-ADDRESS=Mr. Dooley’s Boston 77 Broad St. Boston MA 02109 United States;X-APPLE-RADIUS=500;X-TITLE=77 Broad St.:geo:-71.0536578,42.357643
END:VEVENT
BEGIN:VEVENT
DTSTART;TZID=America/New_York:20300401T210000
DTEND;TZID=America/New_York:20300402T010000
DTSTAMP:20260425T191102
CREATED:20250305T170204Z
LAST-MODIFIED:20250305T170205Z
UID:10004047-1901307600-1901322000@www.mrdooleys.com
SUMMARY:Dave Foley 9-late
DESCRIPTION:
URL:https://www.mrdooleys.com/event/dave-foley-9-late-2/2030-04-01/
LOCATION:Mr. Dooley’s Boston\, 77 Broad St.\, Boston\, MA\, 02109\, United States
GEO:42.357643;-71.0536578
X-APPLE-STRUCTURED-LOCATION;VALUE=URI;X-ADDRESS=Mr. Dooley’s Boston 77 Broad St. Boston MA 02109 United States;X-APPLE-RADIUS=500;X-TITLE=77 Broad St.:geo:-71.0536578,42.357643
END:VEVENT
BEGIN:VEVENT
DTSTART;TZID=America/New_York:20300408T210000
DTEND;TZID=America/New_York:20300409T010000
DTSTAMP:20260425T191102
CREATED:20250305T170204Z
LAST-MODIFIED:20250305T170205Z
UID:10004048-1901912400-1901926800@www.mrdooleys.com
SUMMARY:Dave Foley 9-late
DESCRIPTION:
URL:https://www.mrdooleys.com/event/dave-foley-9-late-2/2030-04-08/
LOCATION:Mr. Dooley’s Boston\, 77 Broad St.\, Boston\, MA\, 02109\, United States
GEO:42.357643;-71.0536578
X-APPLE-STRUCTURED-LOCATION;VALUE=URI;X-ADDRESS=Mr. Dooley’s Boston 77 Broad St. Boston MA 02109 United States;X-APPLE-RADIUS=500;X-TITLE=77 Broad St.:geo:-71.0536578,42.357643
END:VEVENT
BEGIN:VEVENT
DTSTART;TZID=America/New_York:20300415T210000
DTEND;TZID=America/New_York:20300416T010000
DTSTAMP:20260425T191102
CREATED:20250305T170204Z
LAST-MODIFIED:20250305T170205Z
UID:10004049-1902517200-1902531600@www.mrdooleys.com
SUMMARY:Dave Foley 9-late
DESCRIPTION:
URL:https://www.mrdooleys.com/event/dave-foley-9-late-2/2030-04-15/
LOCATION:Mr. Dooley’s Boston\, 77 Broad St.\, Boston\, MA\, 02109\, United States
GEO:42.357643;-71.0536578
X-APPLE-STRUCTURED-LOCATION;VALUE=URI;X-ADDRESS=Mr. Dooley’s Boston 77 Broad St. Boston MA 02109 United States;X-APPLE-RADIUS=500;X-TITLE=77 Broad St.:geo:-71.0536578,42.357643
END:VEVENT
BEGIN:VEVENT
DTSTART;TZID=America/New_York:20300422T210000
DTEND;TZID=America/New_York:20300423T010000
DTSTAMP:20260425T191102
CREATED:20250305T170204Z
LAST-MODIFIED:20250305T170205Z
UID:10004050-1903122000-1903136400@www.mrdooleys.com
SUMMARY:Dave Foley 9-late
DESCRIPTION:
URL:https://www.mrdooleys.com/event/dave-foley-9-late-2/2030-04-22/
LOCATION:Mr. Dooley’s Boston\, 77 Broad St.\, Boston\, MA\, 02109\, United States
GEO:42.357643;-71.0536578
X-APPLE-STRUCTURED-LOCATION;VALUE=URI;X-ADDRESS=Mr. Dooley’s Boston 77 Broad St. Boston MA 02109 United States;X-APPLE-RADIUS=500;X-TITLE=77 Broad St.:geo:-71.0536578,42.357643
END:VEVENT
BEGIN:VEVENT
DTSTART;TZID=America/New_York:20300429T210000
DTEND;TZID=America/New_York:20300430T010000
DTSTAMP:20260425T191102
CREATED:20250305T170204Z
LAST-MODIFIED:20250305T170205Z
UID:10004051-1903726800-1903741200@www.mrdooleys.com
SUMMARY:Dave Foley 9-late
DESCRIPTION:
URL:https://www.mrdooleys.com/event/dave-foley-9-late-2/2030-04-29/
LOCATION:Mr. Dooley’s Boston\, 77 Broad St.\, Boston\, MA\, 02109\, United States
GEO:42.357643;-71.0536578
X-APPLE-STRUCTURED-LOCATION;VALUE=URI;X-ADDRESS=Mr. Dooley’s Boston 77 Broad St. Boston MA 02109 United States;X-APPLE-RADIUS=500;X-TITLE=77 Broad St.:geo:-71.0536578,42.357643
END:VEVENT
BEGIN:VEVENT
DTSTART;TZID=America/New_York:20300506T210000
DTEND;TZID=America/New_York:20300507T010000
DTSTAMP:20260425T191102
CREATED:20250305T170204Z
LAST-MODIFIED:20250305T170205Z
UID:10004052-1904331600-1904346000@www.mrdooleys.com
SUMMARY:Dave Foley 9-late
DESCRIPTION:
URL:https://www.mrdooleys.com/event/dave-foley-9-late-2/2030-05-06/
LOCATION:Mr. Dooley’s Boston\, 77 Broad St.\, Boston\, MA\, 02109\, United States
GEO:42.357643;-71.0536578
X-APPLE-STRUCTURED-LOCATION;VALUE=URI;X-ADDRESS=Mr. Dooley’s Boston 77 Broad St. Boston MA 02109 United States;X-APPLE-RADIUS=500;X-TITLE=77 Broad St.:geo:-71.0536578,42.357643
END:VEVENT
BEGIN:VEVENT
DTSTART;TZID=America/New_York:20300513T210000
DTEND;TZID=America/New_York:20300514T010000
DTSTAMP:20260425T191102
CREATED:20250305T170204Z
LAST-MODIFIED:20250305T170205Z
UID:10004053-1904936400-1904950800@www.mrdooleys.com
SUMMARY:Dave Foley 9-late
DESCRIPTION:
URL:https://www.mrdooleys.com/event/dave-foley-9-late-2/2030-05-13/
LOCATION:Mr. Dooley’s Boston\, 77 Broad St.\, Boston\, MA\, 02109\, United States
GEO:42.357643;-71.0536578
X-APPLE-STRUCTURED-LOCATION;VALUE=URI;X-ADDRESS=Mr. Dooley’s Boston 77 Broad St. Boston MA 02109 United States;X-APPLE-RADIUS=500;X-TITLE=77 Broad St.:geo:-71.0536578,42.357643
END:VEVENT
BEGIN:VEVENT
DTSTART;TZID=America/New_York:20300520T210000
DTEND;TZID=America/New_York:20300521T010000
DTSTAMP:20260425T191102
CREATED:20250305T170204Z
LAST-MODIFIED:20250305T170205Z
UID:10004054-1905541200-1905555600@www.mrdooleys.com
SUMMARY:Dave Foley 9-late
DESCRIPTION:
URL:https://www.mrdooleys.com/event/dave-foley-9-late-2/2030-05-20/
LOCATION:Mr. Dooley’s Boston\, 77 Broad St.\, Boston\, MA\, 02109\, United States
GEO:42.357643;-71.0536578
X-APPLE-STRUCTURED-LOCATION;VALUE=URI;X-ADDRESS=Mr. Dooley’s Boston 77 Broad St. Boston MA 02109 United States;X-APPLE-RADIUS=500;X-TITLE=77 Broad St.:geo:-71.0536578,42.357643
END:VEVENT
BEGIN:VEVENT
DTSTART;TZID=America/New_York:20300527T210000
DTEND;TZID=America/New_York:20300528T010000
DTSTAMP:20260425T191102
CREATED:20250305T170204Z
LAST-MODIFIED:20250305T170205Z
UID:10004055-1906146000-1906160400@www.mrdooleys.com
SUMMARY:Dave Foley 9-late
DESCRIPTION:
URL:https://www.mrdooleys.com/event/dave-foley-9-late-2/2030-05-27/
LOCATION:Mr. Dooley’s Boston\, 77 Broad St.\, Boston\, MA\, 02109\, United States
GEO:42.357643;-71.0536578
X-APPLE-STRUCTURED-LOCATION;VALUE=URI;X-ADDRESS=Mr. Dooley’s Boston 77 Broad St. Boston MA 02109 United States;X-APPLE-RADIUS=500;X-TITLE=77 Broad St.:geo:-71.0536578,42.357643
END:VEVENT
END:VCALENDAR