BEGIN:VCALENDAR
VERSION:2.0
PRODID:-//Mr. Dooley&#039;s Boston - ECPv6.15.13.1//NONSGML v1.0//EN
CALSCALE:GREGORIAN
METHOD:PUBLISH
X-WR-CALNAME:Mr. Dooley&#039;s Boston
X-ORIGINAL-URL:https://www.mrdooleys.com
X-WR-CALDESC:Events for Mr. Dooley&#039;s Boston
REFRESH-INTERVAL;VALUE=DURATION:PT1H
X-Robots-Tag:noindex
X-PUBLISHED-TTL:PT1H
BEGIN:VTIMEZONE
TZID:America/New_York
BEGIN:DAYLIGHT
TZOFFSETFROM:-0500
TZOFFSETTO:-0400
TZNAME:EDT
DTSTART:20240310T070000
END:DAYLIGHT
BEGIN:STANDARD
TZOFFSETFROM:-0400
TZOFFSETTO:-0500
TZNAME:EST
DTSTART:20241103T060000
END:STANDARD
BEGIN:DAYLIGHT
TZOFFSETFROM:-0500
TZOFFSETTO:-0400
TZNAME:EDT
DTSTART:20250309T070000
END:DAYLIGHT
BEGIN:STANDARD
TZOFFSETFROM:-0400
TZOFFSETTO:-0500
TZNAME:EST
DTSTART:20251102T060000
END:STANDARD
BEGIN:DAYLIGHT
TZOFFSETFROM:-0500
TZOFFSETTO:-0400
TZNAME:EDT
DTSTART:20260308T070000
END:DAYLIGHT
BEGIN:STANDARD
TZOFFSETFROM:-0400
TZOFFSETTO:-0500
TZNAME:EST
DTSTART:20261101T060000
END:STANDARD
END:VTIMEZONE
BEGIN:VEVENT
DTSTART;TZID=America/New_York:20251114T170000
DTEND;TZID=America/New_York:20251114T200000
DTSTAMP:20260425T122112
CREATED:20251008T142423Z
LAST-MODIFIED:20251008T142423Z
UID:10004027-1763139600-1763150400@www.mrdooleys.com
SUMMARY:Slim Langan 5-8pm
DESCRIPTION:
URL:https://www.mrdooleys.com/event/slim-langan-5-8pm/
LOCATION:Mr. Dooley’s Boston\, 77 Broad St.\, Boston\, MA\, 02109\, United States
GEO:42.357643;-71.0536578
X-APPLE-STRUCTURED-LOCATION;VALUE=URI;X-ADDRESS=Mr. Dooley’s Boston 77 Broad St. Boston MA 02109 United States;X-APPLE-RADIUS=500;X-TITLE=77 Broad St.:geo:-71.0536578,42.357643
END:VEVENT
BEGIN:VEVENT
DTSTART;TZID=America/New_York:20251113T203000
DTEND;TZID=America/New_York:20251114T010000
DTSTAMP:20260425T122112
CREATED:20250401T194336Z
LAST-MODIFIED:20250401T194336Z
UID:10003757-1763065800-1763082000@www.mrdooleys.com
SUMMARY:Dave & The Shades till late
DESCRIPTION:
URL:https://www.mrdooleys.com/event/dave-the-shades-till-late-5/2025-11-13/
LOCATION:Mr. Dooley’s Boston\, 77 Broad St.\, Boston\, MA\, 02109\, United States
GEO:42.357643;-71.0536578
X-APPLE-STRUCTURED-LOCATION;VALUE=URI;X-ADDRESS=Mr. Dooley’s Boston 77 Broad St. Boston MA 02109 United States;X-APPLE-RADIUS=500;X-TITLE=77 Broad St.:geo:-71.0536578,42.357643
END:VEVENT
BEGIN:VEVENT
DTSTART;TZID=America/New_York:20251112T210000
DTEND;TZID=America/New_York:20251113T010000
DTSTAMP:20260425T122112
CREATED:20251008T142317Z
LAST-MODIFIED:20251008T142317Z
UID:10004026-1762981200-1762995600@www.mrdooleys.com
SUMMARY:Denis O’Gorman 9pm till late
DESCRIPTION:
URL:https://www.mrdooleys.com/event/denis-ogorman-9pm-till-late-2/
LOCATION:Mr. Dooley’s Boston\, 77 Broad St.\, Boston\, MA\, 02109\, United States
GEO:42.357643;-71.0536578
X-APPLE-STRUCTURED-LOCATION;VALUE=URI;X-ADDRESS=Mr. Dooley’s Boston 77 Broad St. Boston MA 02109 United States;X-APPLE-RADIUS=500;X-TITLE=77 Broad St.:geo:-71.0536578,42.357643
END:VEVENT
BEGIN:VEVENT
DTSTART;TZID=America/New_York:20251111T210000
DTEND;TZID=America/New_York:20251112T010000
DTSTAMP:20260425T122112
CREATED:20251008T142223Z
LAST-MODIFIED:20251008T142223Z
UID:10004025-1762894800-1762909200@www.mrdooleys.com
SUMMARY:Cherry Orchard 9pm till late
DESCRIPTION:
URL:https://www.mrdooleys.com/event/cherry-orchard-9pm-till-late-5/
LOCATION:Mr. Dooley’s Boston\, 77 Broad St.\, Boston\, MA\, 02109\, United States
GEO:42.357643;-71.0536578
X-APPLE-STRUCTURED-LOCATION;VALUE=URI;X-ADDRESS=Mr. Dooley’s Boston 77 Broad St. Boston MA 02109 United States;X-APPLE-RADIUS=500;X-TITLE=77 Broad St.:geo:-71.0536578,42.357643
END:VEVENT
BEGIN:VEVENT
DTSTART;TZID=America/New_York:20251110T210000
DTEND;TZID=America/New_York:20251111T010000
DTSTAMP:20260425T122112
CREATED:20250305T170204Z
LAST-MODIFIED:20250305T170205Z
UID:10003211-1762808400-1762822800@www.mrdooleys.com
SUMMARY:Dave Foley 9-late
DESCRIPTION:
URL:https://www.mrdooleys.com/event/dave-foley-9-late-2/2025-11-10/
LOCATION:Mr. Dooley’s Boston\, 77 Broad St.\, Boston\, MA\, 02109\, United States
GEO:42.357643;-71.0536578
X-APPLE-STRUCTURED-LOCATION;VALUE=URI;X-ADDRESS=Mr. Dooley’s Boston 77 Broad St. Boston MA 02109 United States;X-APPLE-RADIUS=500;X-TITLE=77 Broad St.:geo:-71.0536578,42.357643
END:VEVENT
BEGIN:VEVENT
DTSTART;TZID=America/New_York:20251109T210000
DTEND;TZID=America/New_York:20251110T010000
DTSTAMP:20260425T122112
CREATED:20251008T142130Z
LAST-MODIFIED:20251008T142130Z
UID:10004024-1762722000-1762736400@www.mrdooleys.com
SUMMARY:Mike Nolan 9 pm till late
DESCRIPTION:
URL:https://www.mrdooleys.com/event/mike-nolan-9-pm-till-late/
LOCATION:Mr. Dooley’s Boston\, 77 Broad St.\, Boston\, MA\, 02109\, United States
GEO:42.357643;-71.0536578
X-APPLE-STRUCTURED-LOCATION;VALUE=URI;X-ADDRESS=Mr. Dooley’s Boston 77 Broad St. Boston MA 02109 United States;X-APPLE-RADIUS=500;X-TITLE=77 Broad St.:geo:-71.0536578,42.357643
END:VEVENT
BEGIN:VEVENT
DTSTART;TZID=America/New_York:20251109T160000
DTEND;TZID=America/New_York:20251109T200000
DTSTAMP:20260425T122112
CREATED:20250127T215917Z
LAST-MODIFIED:20250127T215917Z
UID:10003624-1762704000-1762718400@www.mrdooleys.com
SUMMARY:Cherry Orchard
DESCRIPTION:
URL:https://www.mrdooleys.com/event/cherry-orchard-3/2025-11-09/
LOCATION:Mr. Dooley’s Boston\, 77 Broad St.\, Boston\, MA\, 02109\, United States
GEO:42.357643;-71.0536578
X-APPLE-STRUCTURED-LOCATION;VALUE=URI;X-ADDRESS=Mr. Dooley’s Boston 77 Broad St. Boston MA 02109 United States;X-APPLE-RADIUS=500;X-TITLE=77 Broad St.:geo:-71.0536578,42.357643
END:VEVENT
BEGIN:VEVENT
DTSTART;TZID=America/New_York:20251108T213000
DTEND;TZID=America/New_York:20251109T013000
DTSTAMP:20260425T122112
CREATED:20251008T141853Z
LAST-MODIFIED:20251008T141853Z
UID:10004022-1762637400-1762651800@www.mrdooleys.com
SUMMARY:Tommy Courtney Band 9:30pm
DESCRIPTION:
URL:https://www.mrdooleys.com/event/tommy-courtney-band-930pm-8/2025-11-08/
LOCATION:Mr. Dooley’s Boston\, 77 Broad St.\, Boston\, MA\, 02109\, United States
GEO:42.357643;-71.0536578
X-APPLE-STRUCTURED-LOCATION;VALUE=URI;X-ADDRESS=Mr. Dooley’s Boston 77 Broad St. Boston MA 02109 United States;X-APPLE-RADIUS=500;X-TITLE=77 Broad St.:geo:-71.0536578,42.357643
END:VEVENT
BEGIN:VEVENT
DTSTART;TZID=America/New_York:20251108T160000
DTEND;TZID=America/New_York:20251108T190000
DTSTAMP:20260425T122112
CREATED:20251008T142033Z
LAST-MODIFIED:20251008T142033Z
UID:10004023-1762617600-1762628400@www.mrdooleys.com
SUMMARY:Colm O’Brien 4-7pm
DESCRIPTION:
URL:https://www.mrdooleys.com/event/colm-obrien-4-7pm-4/
LOCATION:Mr. Dooley’s Boston\, 77 Broad St.\, Boston\, MA\, 02109\, United States
GEO:42.357643;-71.0536578
X-APPLE-STRUCTURED-LOCATION;VALUE=URI;X-ADDRESS=Mr. Dooley’s Boston 77 Broad St. Boston MA 02109 United States;X-APPLE-RADIUS=500;X-TITLE=77 Broad St.:geo:-71.0536578,42.357643
END:VEVENT
BEGIN:VEVENT
DTSTART;TZID=America/New_York:20251107T213000
DTEND;TZID=America/New_York:20251108T013000
DTSTAMP:20260425T122112
CREATED:20251008T141853Z
LAST-MODIFIED:20251008T141853Z
UID:10004021-1762551000-1762565400@www.mrdooleys.com
SUMMARY:Tommy Courtney Band 9:30pm
DESCRIPTION:
URL:https://www.mrdooleys.com/event/tommy-courtney-band-930pm-8/2025-11-07/
LOCATION:Mr. Dooley’s Boston\, 77 Broad St.\, Boston\, MA\, 02109\, United States
GEO:42.357643;-71.0536578
X-APPLE-STRUCTURED-LOCATION;VALUE=URI;X-ADDRESS=Mr. Dooley’s Boston 77 Broad St. Boston MA 02109 United States;X-APPLE-RADIUS=500;X-TITLE=77 Broad St.:geo:-71.0536578,42.357643
END:VEVENT
BEGIN:VEVENT
DTSTART;TZID=America/New_York:20251107T170000
DTEND;TZID=America/New_York:20251107T200000
DTSTAMP:20260425T122112
CREATED:20251008T141712Z
LAST-MODIFIED:20251008T141712Z
UID:10004020-1762534800-1762545600@www.mrdooleys.com
SUMMARY:Tommy Courtney
DESCRIPTION:
URL:https://www.mrdooleys.com/event/tommy-courtney-5/
LOCATION:Mr. Dooley’s Boston\, 77 Broad St.\, Boston\, MA\, 02109\, United States
GEO:42.357643;-71.0536578
X-APPLE-STRUCTURED-LOCATION;VALUE=URI;X-ADDRESS=Mr. Dooley’s Boston 77 Broad St. Boston MA 02109 United States;X-APPLE-RADIUS=500;X-TITLE=77 Broad St.:geo:-71.0536578,42.357643
END:VEVENT
BEGIN:VEVENT
DTSTART;TZID=America/New_York:20251106T203000
DTEND;TZID=America/New_York:20251107T010000
DTSTAMP:20260425T122112
CREATED:20250401T194336Z
LAST-MODIFIED:20250401T194336Z
UID:10003756-1762461000-1762477200@www.mrdooleys.com
SUMMARY:Dave & The Shades till late
DESCRIPTION:
URL:https://www.mrdooleys.com/event/dave-the-shades-till-late-5/2025-11-06/
LOCATION:Mr. Dooley’s Boston\, 77 Broad St.\, Boston\, MA\, 02109\, United States
GEO:42.357643;-71.0536578
X-APPLE-STRUCTURED-LOCATION;VALUE=URI;X-ADDRESS=Mr. Dooley’s Boston 77 Broad St. Boston MA 02109 United States;X-APPLE-RADIUS=500;X-TITLE=77 Broad St.:geo:-71.0536578,42.357643
END:VEVENT
BEGIN:VEVENT
DTSTART;TZID=America/New_York:20251105T210000
DTEND;TZID=America/New_York:20251106T010000
DTSTAMP:20260425T122112
CREATED:20251008T141610Z
LAST-MODIFIED:20251008T141610Z
UID:10004019-1762376400-1762390800@www.mrdooleys.com
SUMMARY:Tommy Courtney till late
DESCRIPTION:
URL:https://www.mrdooleys.com/event/tommy-courtney-till-late-9/
LOCATION:Mr. Dooley’s Boston\, 77 Broad St.\, Boston\, MA\, 02109\, United States
GEO:42.357643;-71.0536578
X-APPLE-STRUCTURED-LOCATION;VALUE=URI;X-ADDRESS=Mr. Dooley’s Boston 77 Broad St. Boston MA 02109 United States;X-APPLE-RADIUS=500;X-TITLE=77 Broad St.:geo:-71.0536578,42.357643
END:VEVENT
BEGIN:VEVENT
DTSTART;TZID=America/New_York:20251104T210000
DTEND;TZID=America/New_York:20251105T010000
DTSTAMP:20260425T122112
CREATED:20251008T141523Z
LAST-MODIFIED:20251008T141523Z
UID:10004018-1762290000-1762304400@www.mrdooleys.com
SUMMARY:The Wooden Planks till late
DESCRIPTION:
URL:https://www.mrdooleys.com/event/the-wooden-planks-till-late-6/
LOCATION:Mr. Dooley’s Boston\, 77 Broad St.\, Boston\, MA\, 02109\, United States
GEO:42.357643;-71.0536578
X-APPLE-STRUCTURED-LOCATION;VALUE=URI;X-ADDRESS=Mr. Dooley’s Boston 77 Broad St. Boston MA 02109 United States;X-APPLE-RADIUS=500;X-TITLE=77 Broad St.:geo:-71.0536578,42.357643
END:VEVENT
BEGIN:VEVENT
DTSTART;TZID=America/New_York:20251103T210000
DTEND;TZID=America/New_York:20251104T010000
DTSTAMP:20260425T122112
CREATED:20250305T170204Z
LAST-MODIFIED:20250305T170205Z
UID:10003210-1762203600-1762218000@www.mrdooleys.com
SUMMARY:Dave Foley 9-late
DESCRIPTION:
URL:https://www.mrdooleys.com/event/dave-foley-9-late-2/2025-11-03/
LOCATION:Mr. Dooley’s Boston\, 77 Broad St.\, Boston\, MA\, 02109\, United States
GEO:42.357643;-71.0536578
X-APPLE-STRUCTURED-LOCATION;VALUE=URI;X-ADDRESS=Mr. Dooley’s Boston 77 Broad St. Boston MA 02109 United States;X-APPLE-RADIUS=500;X-TITLE=77 Broad St.:geo:-71.0536578,42.357643
END:VEVENT
BEGIN:VEVENT
DTSTART;TZID=America/New_York:20251102T210000
DTEND;TZID=America/New_York:20251103T010000
DTSTAMP:20260425T122112
CREATED:20251008T141431Z
LAST-MODIFIED:20251008T141431Z
UID:10004017-1762117200-1762131600@www.mrdooleys.com
SUMMARY:Slim Langan band
DESCRIPTION:
URL:https://www.mrdooleys.com/event/slim-langan-band/
LOCATION:Mr. Dooley’s Boston\, 77 Broad St.\, Boston\, MA\, 02109\, United States
GEO:42.357643;-71.0536578
X-APPLE-STRUCTURED-LOCATION;VALUE=URI;X-ADDRESS=Mr. Dooley’s Boston 77 Broad St. Boston MA 02109 United States;X-APPLE-RADIUS=500;X-TITLE=77 Broad St.:geo:-71.0536578,42.357643
END:VEVENT
BEGIN:VEVENT
DTSTART;TZID=America/New_York:20251102T160000
DTEND;TZID=America/New_York:20251102T200000
DTSTAMP:20260425T122112
CREATED:20250127T215917Z
LAST-MODIFIED:20250127T215917Z
UID:10003623-1762099200-1762113600@www.mrdooleys.com
SUMMARY:Cherry Orchard
DESCRIPTION:
URL:https://www.mrdooleys.com/event/cherry-orchard-3/2025-11-02/
LOCATION:Mr. Dooley’s Boston\, 77 Broad St.\, Boston\, MA\, 02109\, United States
GEO:42.357643;-71.0536578
X-APPLE-STRUCTURED-LOCATION;VALUE=URI;X-ADDRESS=Mr. Dooley’s Boston 77 Broad St. Boston MA 02109 United States;X-APPLE-RADIUS=500;X-TITLE=77 Broad St.:geo:-71.0536578,42.357643
END:VEVENT
BEGIN:VEVENT
DTSTART;TZID=America/New_York:20251101T213000
DTEND;TZID=America/New_York:20251102T013000
DTSTAMP:20260425T122112
CREATED:20251008T132841Z
LAST-MODIFIED:20251008T132841Z
UID:10004014-1762032600-1762047000@www.mrdooleys.com
SUMMARY:Cherry Orchard till late
DESCRIPTION:
URL:https://www.mrdooleys.com/event/cherry-orchard-till-late-8/2025-11-01/
LOCATION:Mr. Dooley’s Boston\, 77 Broad St.\, Boston\, MA\, 02109\, United States
GEO:42.357643;-71.0536578
X-APPLE-STRUCTURED-LOCATION;VALUE=URI;X-ADDRESS=Mr. Dooley’s Boston 77 Broad St. Boston MA 02109 United States;X-APPLE-RADIUS=500;X-TITLE=77 Broad St.:geo:-71.0536578,42.357643
END:VEVENT
BEGIN:VEVENT
DTSTART;TZID=America/New_York:20251101T160000
DTEND;TZID=America/New_York:20251101T190000
DTSTAMP:20260425T122112
CREATED:20251008T132955Z
LAST-MODIFIED:20251008T132955Z
UID:10004015-1762012800-1762023600@www.mrdooleys.com
SUMMARY:Strawberry Hill 4-7pm
DESCRIPTION:
URL:https://www.mrdooleys.com/event/strawberry-hill-4-7pm-3/
LOCATION:Mr. Dooley’s Boston\, 77 Broad St.\, Boston\, MA\, 02109\, United States
GEO:42.357643;-71.0536578
X-APPLE-STRUCTURED-LOCATION;VALUE=URI;X-ADDRESS=Mr. Dooley’s Boston 77 Broad St. Boston MA 02109 United States;X-APPLE-RADIUS=500;X-TITLE=77 Broad St.:geo:-71.0536578,42.357643
END:VEVENT
BEGIN:VEVENT
DTSTART;TZID=America/New_York:20251031T213000
DTEND;TZID=America/New_York:20251101T013000
DTSTAMP:20260425T122112
CREATED:20251008T132841Z
LAST-MODIFIED:20251008T132841Z
UID:10004013-1761946200-1761960600@www.mrdooleys.com
SUMMARY:Cherry Orchard till late
DESCRIPTION:
URL:https://www.mrdooleys.com/event/cherry-orchard-till-late-8/2025-10-31/
LOCATION:Mr. Dooley’s Boston\, 77 Broad St.\, Boston\, MA\, 02109\, United States
GEO:42.357643;-71.0536578
X-APPLE-STRUCTURED-LOCATION;VALUE=URI;X-ADDRESS=Mr. Dooley’s Boston 77 Broad St. Boston MA 02109 United States;X-APPLE-RADIUS=500;X-TITLE=77 Broad St.:geo:-71.0536578,42.357643
END:VEVENT
BEGIN:VEVENT
DTSTART;TZID=America/New_York:20251031T170000
DTEND;TZID=America/New_York:20251031T200000
DTSTAMP:20260425T122112
CREATED:20251008T132723Z
LAST-MODIFIED:20251008T132723Z
UID:10004012-1761930000-1761940800@www.mrdooleys.com
SUMMARY:Colm O’Brien 5-8pm
DESCRIPTION:
URL:https://www.mrdooleys.com/event/colm-obrien-5-8pm-4/
LOCATION:Mr. Dooley’s Boston\, 77 Broad St.\, Boston\, MA\, 02109\, United States
GEO:42.357643;-71.0536578
X-APPLE-STRUCTURED-LOCATION;VALUE=URI;X-ADDRESS=Mr. Dooley’s Boston 77 Broad St. Boston MA 02109 United States;X-APPLE-RADIUS=500;X-TITLE=77 Broad St.:geo:-71.0536578,42.357643
END:VEVENT
BEGIN:VEVENT
DTSTART;TZID=America/New_York:20251030T203000
DTEND;TZID=America/New_York:20251031T010000
DTSTAMP:20260425T122112
CREATED:20250401T194336Z
LAST-MODIFIED:20250401T194336Z
UID:10003755-1761856200-1761872400@www.mrdooleys.com
SUMMARY:Dave & The Shades till late
DESCRIPTION:
URL:https://www.mrdooleys.com/event/dave-the-shades-till-late-5/2025-10-30/
LOCATION:Mr. Dooley’s Boston\, 77 Broad St.\, Boston\, MA\, 02109\, United States
GEO:42.357643;-71.0536578
X-APPLE-STRUCTURED-LOCATION;VALUE=URI;X-ADDRESS=Mr. Dooley’s Boston 77 Broad St. Boston MA 02109 United States;X-APPLE-RADIUS=500;X-TITLE=77 Broad St.:geo:-71.0536578,42.357643
END:VEVENT
BEGIN:VEVENT
DTSTART;TZID=America/New_York:20251029T210000
DTEND;TZID=America/New_York:20251030T010000
DTSTAMP:20260425T122112
CREATED:20251008T132627Z
LAST-MODIFIED:20251008T132627Z
UID:10004011-1761771600-1761786000@www.mrdooleys.com
SUMMARY:Tommy Courtney till late
DESCRIPTION:
URL:https://www.mrdooleys.com/event/tommy-courtney-till-late-8/
LOCATION:Mr. Dooley’s Boston\, 77 Broad St.\, Boston\, MA\, 02109\, United States
GEO:42.357643;-71.0536578
X-APPLE-STRUCTURED-LOCATION;VALUE=URI;X-ADDRESS=Mr. Dooley’s Boston 77 Broad St. Boston MA 02109 United States;X-APPLE-RADIUS=500;X-TITLE=77 Broad St.:geo:-71.0536578,42.357643
END:VEVENT
BEGIN:VEVENT
DTSTART;TZID=America/New_York:20251028T210000
DTEND;TZID=America/New_York:20251029T010000
DTSTAMP:20260425T122112
CREATED:20251008T132529Z
LAST-MODIFIED:20251008T132529Z
UID:10004010-1761685200-1761699600@www.mrdooleys.com
SUMMARY:Colm O'Brien till late
DESCRIPTION:
URL:https://www.mrdooleys.com/event/colm-obrien-till-late-5/
LOCATION:Mr. Dooley’s Boston\, 77 Broad St.\, Boston\, MA\, 02109\, United States
GEO:42.357643;-71.0536578
X-APPLE-STRUCTURED-LOCATION;VALUE=URI;X-ADDRESS=Mr. Dooley’s Boston 77 Broad St. Boston MA 02109 United States;X-APPLE-RADIUS=500;X-TITLE=77 Broad St.:geo:-71.0536578,42.357643
END:VEVENT
BEGIN:VEVENT
DTSTART;TZID=America/New_York:20251027T210000
DTEND;TZID=America/New_York:20251028T010000
DTSTAMP:20260425T122112
CREATED:20250305T170204Z
LAST-MODIFIED:20250305T170205Z
UID:10003209-1761598800-1761613200@www.mrdooleys.com
SUMMARY:Dave Foley 9-late
DESCRIPTION:
URL:https://www.mrdooleys.com/event/dave-foley-9-late-2/2025-10-27/
LOCATION:Mr. Dooley’s Boston\, 77 Broad St.\, Boston\, MA\, 02109\, United States
GEO:42.357643;-71.0536578
X-APPLE-STRUCTURED-LOCATION;VALUE=URI;X-ADDRESS=Mr. Dooley’s Boston 77 Broad St. Boston MA 02109 United States;X-APPLE-RADIUS=500;X-TITLE=77 Broad St.:geo:-71.0536578,42.357643
END:VEVENT
BEGIN:VEVENT
DTSTART;TZID=America/New_York:20251026T210000
DTEND;TZID=America/New_York:20251027T010000
DTSTAMP:20260425T122112
CREATED:20251008T132436Z
LAST-MODIFIED:20251008T132436Z
UID:10004009-1761512400-1761526800@www.mrdooleys.com
SUMMARY:Stephen sunshine
DESCRIPTION:
URL:https://www.mrdooleys.com/event/stephen-sunshine/
LOCATION:Mr. Dooley’s Boston\, 77 Broad St.\, Boston\, MA\, 02109\, United States
GEO:42.357643;-71.0536578
X-APPLE-STRUCTURED-LOCATION;VALUE=URI;X-ADDRESS=Mr. Dooley’s Boston 77 Broad St. Boston MA 02109 United States;X-APPLE-RADIUS=500;X-TITLE=77 Broad St.:geo:-71.0536578,42.357643
END:VEVENT
BEGIN:VEVENT
DTSTART;TZID=America/New_York:20251026T160000
DTEND;TZID=America/New_York:20251026T200000
DTSTAMP:20260425T122112
CREATED:20250127T215917Z
LAST-MODIFIED:20250127T215917Z
UID:10003622-1761494400-1761508800@www.mrdooleys.com
SUMMARY:Cherry Orchard
DESCRIPTION:
URL:https://www.mrdooleys.com/event/cherry-orchard-3/2025-10-26/
LOCATION:Mr. Dooley’s Boston\, 77 Broad St.\, Boston\, MA\, 02109\, United States
GEO:42.357643;-71.0536578
X-APPLE-STRUCTURED-LOCATION;VALUE=URI;X-ADDRESS=Mr. Dooley’s Boston 77 Broad St. Boston MA 02109 United States;X-APPLE-RADIUS=500;X-TITLE=77 Broad St.:geo:-71.0536578,42.357643
END:VEVENT
BEGIN:VEVENT
DTSTART;TZID=America/New_York:20251025T213000
DTEND;TZID=America/New_York:20251026T013000
DTSTAMP:20260425T122112
CREATED:20251008T132347Z
LAST-MODIFIED:20251008T132347Z
UID:10004008-1761427800-1761442200@www.mrdooleys.com
SUMMARY:Devri till late
DESCRIPTION:
URL:https://www.mrdooleys.com/event/devri-till-late-3/2025-10-25/
LOCATION:Mr. Dooley’s Boston\, 77 Broad St.\, Boston\, MA\, 02109\, United States
GEO:42.357643;-71.0536578
X-APPLE-STRUCTURED-LOCATION;VALUE=URI;X-ADDRESS=Mr. Dooley’s Boston 77 Broad St. Boston MA 02109 United States;X-APPLE-RADIUS=500;X-TITLE=77 Broad St.:geo:-71.0536578,42.357643
END:VEVENT
BEGIN:VEVENT
DTSTART;TZID=America/New_York:20251025T160000
DTEND;TZID=America/New_York:20251025T190000
DTSTAMP:20260425T122112
CREATED:20251008T133351Z
LAST-MODIFIED:20251008T133351Z
UID:10004016-1761408000-1761418800@www.mrdooleys.com
SUMMARY:Slim Langan 4-7pm
DESCRIPTION:
URL:https://www.mrdooleys.com/event/slim-langan-4-7pm/
LOCATION:Mr. Dooley’s Boston\, 77 Broad St.\, Boston\, MA\, 02109\, United States
GEO:42.357643;-71.0536578
X-APPLE-STRUCTURED-LOCATION;VALUE=URI;X-ADDRESS=Mr. Dooley’s Boston 77 Broad St. Boston MA 02109 United States;X-APPLE-RADIUS=500;X-TITLE=77 Broad St.:geo:-71.0536578,42.357643
END:VEVENT
BEGIN:VEVENT
DTSTART;TZID=America/New_York:20251024T213000
DTEND;TZID=America/New_York:20251025T013000
DTSTAMP:20260425T122112
CREATED:20251008T132347Z
LAST-MODIFIED:20251008T132347Z
UID:10004007-1761341400-1761355800@www.mrdooleys.com
SUMMARY:Devri till late
DESCRIPTION:
URL:https://www.mrdooleys.com/event/devri-till-late-3/2025-10-24/
LOCATION:Mr. Dooley’s Boston\, 77 Broad St.\, Boston\, MA\, 02109\, United States
GEO:42.357643;-71.0536578
X-APPLE-STRUCTURED-LOCATION;VALUE=URI;X-ADDRESS=Mr. Dooley’s Boston 77 Broad St. Boston MA 02109 United States;X-APPLE-RADIUS=500;X-TITLE=77 Broad St.:geo:-71.0536578,42.357643
END:VEVENT
END:VCALENDAR