BEGIN:VCALENDAR
VERSION:2.0
PRODID:-//Mr. Dooley&#039;s Boston - ECPv6.15.13.1//NONSGML v1.0//EN
CALSCALE:GREGORIAN
METHOD:PUBLISH
X-WR-CALNAME:Mr. Dooley&#039;s Boston
X-ORIGINAL-URL:https://www.mrdooleys.com
X-WR-CALDESC:Events for Mr. Dooley&#039;s Boston
REFRESH-INTERVAL;VALUE=DURATION:PT1H
X-Robots-Tag:noindex
X-PUBLISHED-TTL:PT1H
BEGIN:VTIMEZONE
TZID:America/New_York
BEGIN:DAYLIGHT
TZOFFSETFROM:-0500
TZOFFSETTO:-0400
TZNAME:EDT
DTSTART:20240310T070000
END:DAYLIGHT
BEGIN:STANDARD
TZOFFSETFROM:-0400
TZOFFSETTO:-0500
TZNAME:EST
DTSTART:20241103T060000
END:STANDARD
BEGIN:DAYLIGHT
TZOFFSETFROM:-0500
TZOFFSETTO:-0400
TZNAME:EDT
DTSTART:20250309T070000
END:DAYLIGHT
BEGIN:STANDARD
TZOFFSETFROM:-0400
TZOFFSETTO:-0500
TZNAME:EST
DTSTART:20251102T060000
END:STANDARD
BEGIN:DAYLIGHT
TZOFFSETFROM:-0500
TZOFFSETTO:-0400
TZNAME:EDT
DTSTART:20260308T070000
END:DAYLIGHT
BEGIN:STANDARD
TZOFFSETFROM:-0400
TZOFFSETTO:-0500
TZNAME:EST
DTSTART:20261101T060000
END:STANDARD
END:VTIMEZONE
BEGIN:VEVENT
DTSTART;TZID=America/New_York:20251215T210000
DTEND;TZID=America/New_York:20251216T010000
DTSTAMP:20260425T122305
CREATED:20250305T170204Z
LAST-MODIFIED:20250305T170205Z
UID:10003216-1765832400-1765846800@www.mrdooleys.com
SUMMARY:Dave Foley 9-late
DESCRIPTION:
URL:https://www.mrdooleys.com/event/dave-foley-9-late-2/2025-12-15/
LOCATION:Mr. Dooley’s Boston\, 77 Broad St.\, Boston\, MA\, 02109\, United States
GEO:42.357643;-71.0536578
X-APPLE-STRUCTURED-LOCATION;VALUE=URI;X-ADDRESS=Mr. Dooley’s Boston 77 Broad St. Boston MA 02109 United States;X-APPLE-RADIUS=500;X-TITLE=77 Broad St.:geo:-71.0536578,42.357643
END:VEVENT
BEGIN:VEVENT
DTSTART;TZID=America/New_York:20251214T210000
DTEND;TZID=America/New_York:20251215T010000
DTSTAMP:20260425T122305
CREATED:20251202T132817Z
LAST-MODIFIED:20251202T132817Z
UID:10004093-1765746000-1765760400@www.mrdooleys.com
SUMMARY:Slim Langan
DESCRIPTION:
URL:https://www.mrdooleys.com/event/slim-langan/
LOCATION:Mr. Dooley’s Boston\, 77 Broad St.\, Boston\, MA\, 02109\, United States
GEO:42.357643;-71.0536578
X-APPLE-STRUCTURED-LOCATION;VALUE=URI;X-ADDRESS=Mr. Dooley’s Boston 77 Broad St. Boston MA 02109 United States;X-APPLE-RADIUS=500;X-TITLE=77 Broad St.:geo:-71.0536578,42.357643
END:VEVENT
BEGIN:VEVENT
DTSTART;TZID=America/New_York:20251214T160000
DTEND;TZID=America/New_York:20251214T200000
DTSTAMP:20260425T122305
CREATED:20250127T215917Z
LAST-MODIFIED:20250127T215917Z
UID:10003629-1765728000-1765742400@www.mrdooleys.com
SUMMARY:Cherry Orchard
DESCRIPTION:
URL:https://www.mrdooleys.com/event/cherry-orchard-3/2025-12-14/
LOCATION:Mr. Dooley’s Boston\, 77 Broad St.\, Boston\, MA\, 02109\, United States
GEO:42.357643;-71.0536578
X-APPLE-STRUCTURED-LOCATION;VALUE=URI;X-ADDRESS=Mr. Dooley’s Boston 77 Broad St. Boston MA 02109 United States;X-APPLE-RADIUS=500;X-TITLE=77 Broad St.:geo:-71.0536578,42.357643
END:VEVENT
BEGIN:VEVENT
DTSTART;TZID=America/New_York:20251213T213000
DTEND;TZID=America/New_York:20251214T013000
DTSTAMP:20260425T122305
CREATED:20251202T132734Z
LAST-MODIFIED:20251202T134416Z
UID:10004092-1765661400-1765675800@www.mrdooleys.com
SUMMARY:Devri
DESCRIPTION:
URL:https://www.mrdooleys.com/event/devri/2025-12-13/
LOCATION:Mr. Dooley’s Boston\, 77 Broad St.\, Boston\, MA\, 02109\, United States
GEO:42.357643;-71.0536578
X-APPLE-STRUCTURED-LOCATION;VALUE=URI;X-ADDRESS=Mr. Dooley’s Boston 77 Broad St. Boston MA 02109 United States;X-APPLE-RADIUS=500;X-TITLE=77 Broad St.:geo:-71.0536578,42.357643
END:VEVENT
BEGIN:VEVENT
DTSTART;TZID=America/New_York:20251213T110000
DTEND;TZID=America/New_York:20251213T200000
DTSTAMP:20260425T122305
CREATED:20251202T134630Z
LAST-MODIFIED:20251202T134630Z
UID:10004109-1765623600-1765656000@www.mrdooleys.com
SUMMARY:Christmas party
DESCRIPTION:
URL:https://www.mrdooleys.com/event/christmas-party/
LOCATION:Mr. Dooley’s Boston\, 77 Broad St.\, Boston\, MA\, 02109\, United States
GEO:42.357643;-71.0536578
X-APPLE-STRUCTURED-LOCATION;VALUE=URI;X-ADDRESS=Mr. Dooley’s Boston 77 Broad St. Boston MA 02109 United States;X-APPLE-RADIUS=500;X-TITLE=77 Broad St.:geo:-71.0536578,42.357643
END:VEVENT
BEGIN:VEVENT
DTSTART;TZID=America/New_York:20251212T213000
DTEND;TZID=America/New_York:20251213T013000
DTSTAMP:20260425T122305
CREATED:20251202T132734Z
LAST-MODIFIED:20251202T134416Z
UID:10004108-1765575000-1765589400@www.mrdooleys.com
SUMMARY:Devri
DESCRIPTION:
URL:https://www.mrdooleys.com/event/devri/2025-12-12/
LOCATION:Mr. Dooley’s Boston\, 77 Broad St.\, Boston\, MA\, 02109\, United States
GEO:42.357643;-71.0536578
X-APPLE-STRUCTURED-LOCATION;VALUE=URI;X-ADDRESS=Mr. Dooley’s Boston 77 Broad St. Boston MA 02109 United States;X-APPLE-RADIUS=500;X-TITLE=77 Broad St.:geo:-71.0536578,42.357643
END:VEVENT
BEGIN:VEVENT
DTSTART;TZID=America/New_York:20251212T170000
DTEND;TZID=America/New_York:20251212T200000
DTSTAMP:20260425T122305
CREATED:20251202T132607Z
LAST-MODIFIED:20251202T132607Z
UID:10004090-1765558800-1765569600@www.mrdooleys.com
SUMMARY:Colm O'Brien 5-8pm
DESCRIPTION:
URL:https://www.mrdooleys.com/event/colm-obrien-5-8pm/
LOCATION:Mr. Dooley’s Boston\, 77 Broad St.\, Boston\, MA\, 02109\, United States
GEO:42.357643;-71.0536578
X-APPLE-STRUCTURED-LOCATION;VALUE=URI;X-ADDRESS=Mr. Dooley’s Boston 77 Broad St. Boston MA 02109 United States;X-APPLE-RADIUS=500;X-TITLE=77 Broad St.:geo:-71.0536578,42.357643
END:VEVENT
BEGIN:VEVENT
DTSTART;TZID=America/New_York:20251211T203000
DTEND;TZID=America/New_York:20251212T010000
DTSTAMP:20260425T122305
CREATED:20250401T194336Z
LAST-MODIFIED:20250401T194336Z
UID:10003761-1765485000-1765501200@www.mrdooleys.com
SUMMARY:Dave & The Shades till late
DESCRIPTION:
URL:https://www.mrdooleys.com/event/dave-the-shades-till-late-5/2025-12-11/
LOCATION:Mr. Dooley’s Boston\, 77 Broad St.\, Boston\, MA\, 02109\, United States
GEO:42.357643;-71.0536578
X-APPLE-STRUCTURED-LOCATION;VALUE=URI;X-ADDRESS=Mr. Dooley’s Boston 77 Broad St. Boston MA 02109 United States;X-APPLE-RADIUS=500;X-TITLE=77 Broad St.:geo:-71.0536578,42.357643
END:VEVENT
BEGIN:VEVENT
DTSTART;TZID=America/New_York:20251210T210000
DTEND;TZID=America/New_York:20251211T010000
DTSTAMP:20260425T122305
CREATED:20251202T132513Z
LAST-MODIFIED:20251202T132513Z
UID:10004089-1765400400-1765414800@www.mrdooleys.com
SUMMARY:Fionn Brinkley 9pm till late
DESCRIPTION:
URL:https://www.mrdooleys.com/event/fionn-brinkley-9pm-till-late/
LOCATION:Mr. Dooley’s Boston\, 77 Broad St.\, Boston\, MA\, 02109\, United States
GEO:42.357643;-71.0536578
X-APPLE-STRUCTURED-LOCATION;VALUE=URI;X-ADDRESS=Mr. Dooley’s Boston 77 Broad St. Boston MA 02109 United States;X-APPLE-RADIUS=500;X-TITLE=77 Broad St.:geo:-71.0536578,42.357643
END:VEVENT
BEGIN:VEVENT
DTSTART;TZID=America/New_York:20251209T210000
DTEND;TZID=America/New_York:20251210T010000
DTSTAMP:20260425T122305
CREATED:20251202T133802Z
LAST-MODIFIED:20251202T133802Z
UID:10004104-1765314000-1765328400@www.mrdooleys.com
SUMMARY:The Wooden Planks till late
DESCRIPTION:
URL:https://www.mrdooleys.com/event/the-wooden-planks-till-late/
LOCATION:Mr. Dooley’s Boston\, 77 Broad St.\, Boston\, MA\, 02109\, United States
GEO:42.357643;-71.0536578
X-APPLE-STRUCTURED-LOCATION;VALUE=URI;X-ADDRESS=Mr. Dooley’s Boston 77 Broad St. Boston MA 02109 United States;X-APPLE-RADIUS=500;X-TITLE=77 Broad St.:geo:-71.0536578,42.357643
END:VEVENT
BEGIN:VEVENT
DTSTART;TZID=America/New_York:20251208T210000
DTEND;TZID=America/New_York:20251209T010000
DTSTAMP:20260425T122305
CREATED:20250305T170204Z
LAST-MODIFIED:20250305T170205Z
UID:10003215-1765227600-1765242000@www.mrdooleys.com
SUMMARY:Dave Foley 9-late
DESCRIPTION:
URL:https://www.mrdooleys.com/event/dave-foley-9-late-2/2025-12-08/
LOCATION:Mr. Dooley’s Boston\, 77 Broad St.\, Boston\, MA\, 02109\, United States
GEO:42.357643;-71.0536578
X-APPLE-STRUCTURED-LOCATION;VALUE=URI;X-ADDRESS=Mr. Dooley’s Boston 77 Broad St. Boston MA 02109 United States;X-APPLE-RADIUS=500;X-TITLE=77 Broad St.:geo:-71.0536578,42.357643
END:VEVENT
BEGIN:VEVENT
DTSTART;TZID=America/New_York:20251207T210000
DTEND;TZID=America/New_York:20251208T010000
DTSTAMP:20260425T122305
CREATED:20251202T132415Z
LAST-MODIFIED:20251202T132415Z
UID:10004088-1765141200-1765155600@www.mrdooleys.com
SUMMARY:Tommy Courtney 9pm
DESCRIPTION:
URL:https://www.mrdooleys.com/event/tommy-courtney-9pm-2/
LOCATION:Mr. Dooley’s Boston\, 77 Broad St.\, Boston\, MA\, 02109\, United States
GEO:42.357643;-71.0536578
X-APPLE-STRUCTURED-LOCATION;VALUE=URI;X-ADDRESS=Mr. Dooley’s Boston 77 Broad St. Boston MA 02109 United States;X-APPLE-RADIUS=500;X-TITLE=77 Broad St.:geo:-71.0536578,42.357643
END:VEVENT
BEGIN:VEVENT
DTSTART;TZID=America/New_York:20251207T160000
DTEND;TZID=America/New_York:20251207T200000
DTSTAMP:20260425T122305
CREATED:20250127T215917Z
LAST-MODIFIED:20250127T215917Z
UID:10003628-1765123200-1765137600@www.mrdooleys.com
SUMMARY:Cherry Orchard
DESCRIPTION:
URL:https://www.mrdooleys.com/event/cherry-orchard-3/2025-12-07/
LOCATION:Mr. Dooley’s Boston\, 77 Broad St.\, Boston\, MA\, 02109\, United States
GEO:42.357643;-71.0536578
X-APPLE-STRUCTURED-LOCATION;VALUE=URI;X-ADDRESS=Mr. Dooley’s Boston 77 Broad St. Boston MA 02109 United States;X-APPLE-RADIUS=500;X-TITLE=77 Broad St.:geo:-71.0536578,42.357643
END:VEVENT
BEGIN:VEVENT
DTSTART;TZID=America/New_York:20251206T213000
DTEND;TZID=America/New_York:20251207T013000
DTSTAMP:20260425T122305
CREATED:20251202T132321Z
LAST-MODIFIED:20251202T132321Z
UID:10004087-1765056600-1765071000@www.mrdooleys.com
SUMMARY:Cherry Orchard 9:30pm till late
DESCRIPTION:
URL:https://www.mrdooleys.com/event/cherry-orchard-930pm-till-late-2/
LOCATION:Mr. Dooley’s Boston\, 77 Broad St.\, Boston\, MA\, 02109\, United States
GEO:42.357643;-71.0536578
X-APPLE-STRUCTURED-LOCATION;VALUE=URI;X-ADDRESS=Mr. Dooley’s Boston 77 Broad St. Boston MA 02109 United States;X-APPLE-RADIUS=500;X-TITLE=77 Broad St.:geo:-71.0536578,42.357643
END:VEVENT
BEGIN:VEVENT
DTSTART;TZID=America/New_York:20251206T160000
DTEND;TZID=America/New_York:20251206T190000
DTSTAMP:20260425T122305
CREATED:20251202T132238Z
LAST-MODIFIED:20251202T132238Z
UID:10004086-1765036800-1765047600@www.mrdooleys.com
SUMMARY:Strawberry Hill 4-7pm
DESCRIPTION:
URL:https://www.mrdooleys.com/event/strawberry-hill-4-7pm/
LOCATION:Mr. Dooley’s Boston\, 77 Broad St.\, Boston\, MA\, 02109\, United States
GEO:42.357643;-71.0536578
X-APPLE-STRUCTURED-LOCATION;VALUE=URI;X-ADDRESS=Mr. Dooley’s Boston 77 Broad St. Boston MA 02109 United States;X-APPLE-RADIUS=500;X-TITLE=77 Broad St.:geo:-71.0536578,42.357643
END:VEVENT
BEGIN:VEVENT
DTSTART;TZID=America/New_York:20251205T213000
DTEND;TZID=America/New_York:20251206T013000
DTSTAMP:20260425T122305
CREATED:20251202T132146Z
LAST-MODIFIED:20251202T132146Z
UID:10004085-1764970200-1764984600@www.mrdooleys.com
SUMMARY:Cherry Orchard 9:30pm till late
DESCRIPTION:
URL:https://www.mrdooleys.com/event/cherry-orchard-930pm-till-late/
LOCATION:Mr. Dooley’s Boston\, 77 Broad St.\, Boston\, MA\, 02109\, United States
GEO:42.357643;-71.0536578
X-APPLE-STRUCTURED-LOCATION;VALUE=URI;X-ADDRESS=Mr. Dooley’s Boston 77 Broad St. Boston MA 02109 United States;X-APPLE-RADIUS=500;X-TITLE=77 Broad St.:geo:-71.0536578,42.357643
END:VEVENT
BEGIN:VEVENT
DTSTART;TZID=America/New_York:20251205T170000
DTEND;TZID=America/New_York:20251205T200000
DTSTAMP:20260425T122305
CREATED:20251202T131934Z
LAST-MODIFIED:20251202T131934Z
UID:10004084-1764954000-1764964800@www.mrdooleys.com
SUMMARY:Tommy Courtney 5-8pm
DESCRIPTION:
URL:https://www.mrdooleys.com/event/tommy-courtney-5-8pm/
LOCATION:Mr. Dooley’s Boston\, 77 Broad St.\, Boston\, MA\, 02109\, United States
GEO:42.357643;-71.0536578
X-APPLE-STRUCTURED-LOCATION;VALUE=URI;X-ADDRESS=Mr. Dooley’s Boston 77 Broad St. Boston MA 02109 United States;X-APPLE-RADIUS=500;X-TITLE=77 Broad St.:geo:-71.0536578,42.357643
END:VEVENT
BEGIN:VEVENT
DTSTART;TZID=America/New_York:20251204T203000
DTEND;TZID=America/New_York:20251205T010000
DTSTAMP:20260425T122305
CREATED:20250401T194336Z
LAST-MODIFIED:20250401T194336Z
UID:10003760-1764880200-1764896400@www.mrdooleys.com
SUMMARY:Dave & The Shades till late
DESCRIPTION:
URL:https://www.mrdooleys.com/event/dave-the-shades-till-late-5/2025-12-04/
LOCATION:Mr. Dooley’s Boston\, 77 Broad St.\, Boston\, MA\, 02109\, United States
GEO:42.357643;-71.0536578
X-APPLE-STRUCTURED-LOCATION;VALUE=URI;X-ADDRESS=Mr. Dooley’s Boston 77 Broad St. Boston MA 02109 United States;X-APPLE-RADIUS=500;X-TITLE=77 Broad St.:geo:-71.0536578,42.357643
END:VEVENT
BEGIN:VEVENT
DTSTART;TZID=America/New_York:20251203T210000
DTEND;TZID=America/New_York:20251204T010000
DTSTAMP:20260425T122305
CREATED:20251202T131850Z
LAST-MODIFIED:20251202T131850Z
UID:10004083-1764795600-1764810000@www.mrdooleys.com
SUMMARY:Tommy Courtney 9pm
DESCRIPTION:
URL:https://www.mrdooleys.com/event/tommy-courtney-9pm/
LOCATION:Mr. Dooley’s Boston\, 77 Broad St.\, Boston\, MA\, 02109\, United States
GEO:42.357643;-71.0536578
X-APPLE-STRUCTURED-LOCATION;VALUE=URI;X-ADDRESS=Mr. Dooley’s Boston 77 Broad St. Boston MA 02109 United States;X-APPLE-RADIUS=500;X-TITLE=77 Broad St.:geo:-71.0536578,42.357643
END:VEVENT
BEGIN:VEVENT
DTSTART;TZID=America/New_York:20251202T210000
DTEND;TZID=America/New_York:20251203T010000
DTSTAMP:20260425T122305
CREATED:20251202T131722Z
LAST-MODIFIED:20251202T131722Z
UID:10004082-1764709200-1764723600@www.mrdooleys.com
SUMMARY:Denis O’Gorman 9 pm till late
DESCRIPTION:
URL:https://www.mrdooleys.com/event/denis-ogorman-9-pm-till-late/
LOCATION:Mr. Dooley’s Boston\, 77 Broad St.\, Boston\, MA\, 02109\, United States
GEO:42.357643;-71.0536578
X-APPLE-STRUCTURED-LOCATION;VALUE=URI;X-ADDRESS=Mr. Dooley’s Boston 77 Broad St. Boston MA 02109 United States;X-APPLE-RADIUS=500;X-TITLE=77 Broad St.:geo:-71.0536578,42.357643
END:VEVENT
BEGIN:VEVENT
DTSTART;TZID=America/New_York:20251201T210000
DTEND;TZID=America/New_York:20251202T010000
DTSTAMP:20260425T122305
CREATED:20250305T170204Z
LAST-MODIFIED:20250305T170205Z
UID:10003214-1764622800-1764637200@www.mrdooleys.com
SUMMARY:Dave Foley 9-late
DESCRIPTION:
URL:https://www.mrdooleys.com/event/dave-foley-9-late-2/2025-12-01/
LOCATION:Mr. Dooley’s Boston\, 77 Broad St.\, Boston\, MA\, 02109\, United States
GEO:42.357643;-71.0536578
X-APPLE-STRUCTURED-LOCATION;VALUE=URI;X-ADDRESS=Mr. Dooley’s Boston 77 Broad St. Boston MA 02109 United States;X-APPLE-RADIUS=500;X-TITLE=77 Broad St.:geo:-71.0536578,42.357643
END:VEVENT
BEGIN:VEVENT
DTSTART;TZID=America/New_York:20251130T210000
DTEND;TZID=America/New_York:20251201T010000
DTSTAMP:20260425T122305
CREATED:20251008T143806Z
LAST-MODIFIED:20251008T143806Z
UID:10004043-1764536400-1764550800@www.mrdooleys.com
SUMMARY:Colm O'Brien till late
DESCRIPTION:
URL:https://www.mrdooleys.com/event/colm-obrien-till-late-6/
LOCATION:Mr. Dooley’s Boston\, 77 Broad St.\, Boston\, MA\, 02109\, United States
GEO:42.357643;-71.0536578
X-APPLE-STRUCTURED-LOCATION;VALUE=URI;X-ADDRESS=Mr. Dooley’s Boston 77 Broad St. Boston MA 02109 United States;X-APPLE-RADIUS=500;X-TITLE=77 Broad St.:geo:-71.0536578,42.357643
END:VEVENT
BEGIN:VEVENT
DTSTART;TZID=America/New_York:20251130T160000
DTEND;TZID=America/New_York:20251130T200000
DTSTAMP:20260425T122305
CREATED:20250127T215917Z
LAST-MODIFIED:20250127T215917Z
UID:10003627-1764518400-1764532800@www.mrdooleys.com
SUMMARY:Cherry Orchard
DESCRIPTION:
URL:https://www.mrdooleys.com/event/cherry-orchard-3/2025-11-30/
LOCATION:Mr. Dooley’s Boston\, 77 Broad St.\, Boston\, MA\, 02109\, United States
GEO:42.357643;-71.0536578
X-APPLE-STRUCTURED-LOCATION;VALUE=URI;X-ADDRESS=Mr. Dooley’s Boston 77 Broad St. Boston MA 02109 United States;X-APPLE-RADIUS=500;X-TITLE=77 Broad St.:geo:-71.0536578,42.357643
END:VEVENT
BEGIN:VEVENT
DTSTART;TZID=America/New_York:20251129T213000
DTEND;TZID=America/New_York:20251130T013000
DTSTAMP:20260425T122305
CREATED:20251008T143513Z
LAST-MODIFIED:20251008T143607Z
UID:10004041-1764451800-1764466200@www.mrdooleys.com
SUMMARY:The Wooden Planks till late
DESCRIPTION:
URL:https://www.mrdooleys.com/event/the-wooden-planks-till-late-7/2025-11-29/
LOCATION:Mr. Dooley’s Boston\, 77 Broad St.\, Boston\, MA\, 02109\, United States
GEO:42.357643;-71.0536578
X-APPLE-STRUCTURED-LOCATION;VALUE=URI;X-ADDRESS=Mr. Dooley’s Boston 77 Broad St. Boston MA 02109 United States;X-APPLE-RADIUS=500;X-TITLE=77 Broad St.:geo:-71.0536578,42.357643
END:VEVENT
BEGIN:VEVENT
DTSTART;TZID=America/New_York:20251129T160000
DTEND;TZID=America/New_York:20251129T190000
DTSTAMP:20260425T122305
CREATED:20251008T143707Z
LAST-MODIFIED:20251008T143707Z
UID:10004042-1764432000-1764442800@www.mrdooleys.com
SUMMARY:Strawberry Hill 4-7pm
DESCRIPTION:
URL:https://www.mrdooleys.com/event/strawberry-hill-4-7pm-4/
LOCATION:Mr. Dooley’s Boston\, 77 Broad St.\, Boston\, MA\, 02109\, United States
GEO:42.357643;-71.0536578
X-APPLE-STRUCTURED-LOCATION;VALUE=URI;X-ADDRESS=Mr. Dooley’s Boston 77 Broad St. Boston MA 02109 United States;X-APPLE-RADIUS=500;X-TITLE=77 Broad St.:geo:-71.0536578,42.357643
END:VEVENT
BEGIN:VEVENT
DTSTART;TZID=America/New_York:20251128T213000
DTEND;TZID=America/New_York:20251129T013000
DTSTAMP:20260425T122305
CREATED:20251008T143513Z
LAST-MODIFIED:20251008T143607Z
UID:10004040-1764365400-1764379800@www.mrdooleys.com
SUMMARY:The Wooden Planks till late
DESCRIPTION:
URL:https://www.mrdooleys.com/event/the-wooden-planks-till-late-7/2025-11-28/
LOCATION:Mr. Dooley’s Boston\, 77 Broad St.\, Boston\, MA\, 02109\, United States
GEO:42.357643;-71.0536578
X-APPLE-STRUCTURED-LOCATION;VALUE=URI;X-ADDRESS=Mr. Dooley’s Boston 77 Broad St. Boston MA 02109 United States;X-APPLE-RADIUS=500;X-TITLE=77 Broad St.:geo:-71.0536578,42.357643
END:VEVENT
BEGIN:VEVENT
DTSTART;TZID=America/New_York:20251127T203000
DTEND;TZID=America/New_York:20251128T010000
DTSTAMP:20260425T122305
CREATED:20250401T194336Z
LAST-MODIFIED:20250401T194336Z
UID:10003759-1764275400-1764291600@www.mrdooleys.com
SUMMARY:Dave & The Shades till late
DESCRIPTION:
URL:https://www.mrdooleys.com/event/dave-the-shades-till-late-5/2025-11-27/
LOCATION:Mr. Dooley’s Boston\, 77 Broad St.\, Boston\, MA\, 02109\, United States
GEO:42.357643;-71.0536578
X-APPLE-STRUCTURED-LOCATION;VALUE=URI;X-ADDRESS=Mr. Dooley’s Boston 77 Broad St. Boston MA 02109 United States;X-APPLE-RADIUS=500;X-TITLE=77 Broad St.:geo:-71.0536578,42.357643
END:VEVENT
BEGIN:VEVENT
DTSTART;TZID=America/New_York:20251126T210000
DTEND;TZID=America/New_York:20251127T010000
DTSTAMP:20260425T122305
CREATED:20251008T143411Z
LAST-MODIFIED:20251008T143411Z
UID:10004039-1764190800-1764205200@www.mrdooleys.com
SUMMARY:Denis O’Gorman 9 pm till late
DESCRIPTION:
URL:https://www.mrdooleys.com/event/denis-ogorman-9-pm-till-late-10/
LOCATION:Mr. Dooley’s Boston\, 77 Broad St.\, Boston\, MA\, 02109\, United States
GEO:42.357643;-71.0536578
X-APPLE-STRUCTURED-LOCATION;VALUE=URI;X-ADDRESS=Mr. Dooley’s Boston 77 Broad St. Boston MA 02109 United States;X-APPLE-RADIUS=500;X-TITLE=77 Broad St.:geo:-71.0536578,42.357643
END:VEVENT
BEGIN:VEVENT
DTSTART;TZID=America/New_York:20251125T210000
DTEND;TZID=America/New_York:20251126T010000
DTSTAMP:20260425T122305
CREATED:20251008T143323Z
LAST-MODIFIED:20251008T143323Z
UID:10004038-1764104400-1764118800@www.mrdooleys.com
SUMMARY:Colm O’Brien 9 till late
DESCRIPTION:
URL:https://www.mrdooleys.com/event/colm-obrien-9-till-late-7/
LOCATION:Mr. Dooley’s Boston\, 77 Broad St.\, Boston\, MA\, 02109\, United States
GEO:42.357643;-71.0536578
X-APPLE-STRUCTURED-LOCATION;VALUE=URI;X-ADDRESS=Mr. Dooley’s Boston 77 Broad St. Boston MA 02109 United States;X-APPLE-RADIUS=500;X-TITLE=77 Broad St.:geo:-71.0536578,42.357643
END:VEVENT
BEGIN:VEVENT
DTSTART;TZID=America/New_York:20251124T210000
DTEND;TZID=America/New_York:20251125T010000
DTSTAMP:20260425T122305
CREATED:20250305T170204Z
LAST-MODIFIED:20250305T170205Z
UID:10003213-1764018000-1764032400@www.mrdooleys.com
SUMMARY:Dave Foley 9-late
DESCRIPTION:
URL:https://www.mrdooleys.com/event/dave-foley-9-late-2/2025-11-24/
LOCATION:Mr. Dooley’s Boston\, 77 Broad St.\, Boston\, MA\, 02109\, United States
GEO:42.357643;-71.0536578
X-APPLE-STRUCTURED-LOCATION;VALUE=URI;X-ADDRESS=Mr. Dooley’s Boston 77 Broad St. Boston MA 02109 United States;X-APPLE-RADIUS=500;X-TITLE=77 Broad St.:geo:-71.0536578,42.357643
END:VEVENT
END:VCALENDAR